BEGIN:VCALENDAR
VERSION:2.0
PRODID:-//MarloweManor.com - ECPv6.15.20//NONSGML v1.0//EN
CALSCALE:GREGORIAN
METHOD:PUBLISH
X-ORIGINAL-URL:https://www.marlowemanor.com
X-WR-CALDESC:Events for MarloweManor.com
REFRESH-INTERVAL;VALUE=DURATION:PT1H
X-Robots-Tag:noindex
X-PUBLISHED-TTL:PT1H
BEGIN:VTIMEZONE
TZID:America/Chicago
BEGIN:DAYLIGHT
TZOFFSETFROM:-0600
TZOFFSETTO:-0500
TZNAME:CDT
DTSTART:20240310T080000
END:DAYLIGHT
BEGIN:STANDARD
TZOFFSETFROM:-0500
TZOFFSETTO:-0600
TZNAME:CST
DTSTART:20241103T070000
END:STANDARD
BEGIN:DAYLIGHT
TZOFFSETFROM:-0600
TZOFFSETTO:-0500
TZNAME:CDT
DTSTART:20250309T080000
END:DAYLIGHT
BEGIN:STANDARD
TZOFFSETFROM:-0500
TZOFFSETTO:-0600
TZNAME:CST
DTSTART:20251102T070000
END:STANDARD
BEGIN:DAYLIGHT
TZOFFSETFROM:-0600
TZOFFSETTO:-0500
TZNAME:CDT
DTSTART:20260308T080000
END:DAYLIGHT
BEGIN:STANDARD
TZOFFSETFROM:-0500
TZOFFSETTO:-0600
TZNAME:CST
DTSTART:20261101T070000
END:STANDARD
END:VTIMEZONE
BEGIN:VEVENT
DTSTART;TZID=America/Chicago:20250508T190000
DTEND;TZID=America/Chicago:20250508T200000
DTSTAMP:20260424T090754
CREATED:20250325T155010Z
LAST-MODIFIED:20250325T155140Z
UID:2323-1746730800-1746734400@www.marlowemanor.com
SUMMARY:Marlow Manor Property Owners Association Members Meeting
DESCRIPTION:Please join us on Thursday\, May 8th at 7:00pm for Marlowe Manor Property Owners Association members meeting by Zoom.  We will be going over the latest events in the neighborhood\, financials\, as well as answering any questions neighbors may have. Looking forward to seeing y’all there virtually. \n\n\n\n\n\n\n\nDo you need the zoom connection information?  Please email the secretary at secretarymmpoa@gmail.com for the connection information and to be included in the Monthly Newsletter.
URL:https://www.marlowemanor.com/event/marlow-manor-property-owners-association-members-meeting-8/
LOCATION:Zoom (Virtual/Online)
CATEGORIES:Property Owners Association Meetings
ATTACH;FMTTYPE=image/png:https://www.marlowemanor.com/wp-content/uploads/Marlowe_Meeting_May.png
END:VEVENT
END:VCALENDAR