BEGIN:VCALENDAR
VERSION:2.0
PRODID:-//MarloweManor.com - ECPv6.15.20//NONSGML v1.0//EN
CALSCALE:GREGORIAN
METHOD:PUBLISH
X-WR-CALNAME:MarloweManor.com
X-ORIGINAL-URL:https://www.marlowemanor.com
X-WR-CALDESC:Events for MarloweManor.com
REFRESH-INTERVAL;VALUE=DURATION:PT1H
X-Robots-Tag:noindex
X-PUBLISHED-TTL:PT1H
BEGIN:VTIMEZONE
TZID:America/Chicago
BEGIN:DAYLIGHT
TZOFFSETFROM:-0600
TZOFFSETTO:-0500
TZNAME:CDT
DTSTART:20240310T080000
END:DAYLIGHT
BEGIN:STANDARD
TZOFFSETFROM:-0500
TZOFFSETTO:-0600
TZNAME:CST
DTSTART:20241103T070000
END:STANDARD
BEGIN:DAYLIGHT
TZOFFSETFROM:-0600
TZOFFSETTO:-0500
TZNAME:CDT
DTSTART:20250309T080000
END:DAYLIGHT
BEGIN:STANDARD
TZOFFSETFROM:-0500
TZOFFSETTO:-0600
TZNAME:CST
DTSTART:20251102T070000
END:STANDARD
BEGIN:DAYLIGHT
TZOFFSETFROM:-0600
TZOFFSETTO:-0500
TZNAME:CDT
DTSTART:20260308T080000
END:DAYLIGHT
BEGIN:STANDARD
TZOFFSETFROM:-0500
TZOFFSETTO:-0600
TZNAME:CST
DTSTART:20261101T070000
END:STANDARD
END:VTIMEZONE
BEGIN:VEVENT
DTSTART;TZID=America/Chicago:20250708T190000
DTEND;TZID=America/Chicago:20250708T200000
DTSTAMP:20260424T052848
CREATED:20250702T164912Z
LAST-MODIFIED:20250702T164914Z
UID:2528-1752001200-1752004800@www.marlowemanor.com
SUMMARY:Marlowe Manor Property Owners Association Members Meeting - July 2025
DESCRIPTION:Date: Tuesday\, July 8\, 2025Time: 7:00 PMLocation: Zoom \n\n\n\nAll Marlowe Manor property owners in good standing are invited to attend our next MMPOA Members Meeting. This is a great chance to stay informed\, connect with neighbors\, and participate in the direction of our neighborhood. \n\n\n\nPlanned Discussion Topics: \n\n\n\n\nPool Survey Results – Review feedback and discuss improvements\n\n\n\nCurrent Financials – Understand how your dues are being managed\n\n\n\nState of Affairs – Get updates on neighborhood projects and developments\n\n\n\n\nYour participation makes a difference. Come hear what’s happening and help shape the future of Marlowe Manor!
URL:https://www.marlowemanor.com/event/marlowe-manor-property-owners-association-members-meeting-july-2025/
LOCATION:Zoom (Virtual/Online)
ATTACH;FMTTYPE=image/png:https://www.marlowemanor.com/wp-content/uploads/Marlowe-Manor-Property-Owners-Association-Members-Meeting.png
END:VEVENT
END:VCALENDAR