BEGIN:VCALENDAR
VERSION:2.0
PRODID:-//MarloweManor.com - ECPv6.15.20//NONSGML v1.0//EN
CALSCALE:GREGORIAN
METHOD:PUBLISH
X-WR-CALNAME:MarloweManor.com
X-ORIGINAL-URL:https://www.marlowemanor.com
X-WR-CALDESC:Events for MarloweManor.com
REFRESH-INTERVAL;VALUE=DURATION:PT1H
X-Robots-Tag:noindex
X-PUBLISHED-TTL:PT1H
BEGIN:VTIMEZONE
TZID:America/Chicago
BEGIN:DAYLIGHT
TZOFFSETFROM:-0600
TZOFFSETTO:-0500
TZNAME:CDT
DTSTART:20250309T080000
END:DAYLIGHT
BEGIN:STANDARD
TZOFFSETFROM:-0500
TZOFFSETTO:-0600
TZNAME:CST
DTSTART:20251102T070000
END:STANDARD
BEGIN:DAYLIGHT
TZOFFSETFROM:-0600
TZOFFSETTO:-0500
TZNAME:CDT
DTSTART:20260308T080000
END:DAYLIGHT
BEGIN:STANDARD
TZOFFSETFROM:-0500
TZOFFSETTO:-0600
TZNAME:CST
DTSTART:20261101T070000
END:STANDARD
BEGIN:DAYLIGHT
TZOFFSETFROM:-0600
TZOFFSETTO:-0500
TZNAME:CDT
DTSTART:20270314T080000
END:DAYLIGHT
BEGIN:STANDARD
TZOFFSETFROM:-0500
TZOFFSETTO:-0600
TZNAME:CST
DTSTART:20271107T070000
END:STANDARD
END:VTIMEZONE
BEGIN:VEVENT
DTSTART;TZID=America/Chicago:20260521T160000
DTEND;TZID=America/Chicago:20260521T190000
DTSTAMP:20260423T153820
CREATED:20260315T001338Z
LAST-MODIFIED:20260315T001339Z
UID:2668-1779379200-1779390000@www.marlowemanor.com
SUMMARY:Phillips’ Lips & Tips Food Truck at Marlowe Manor Park
DESCRIPTION:Join your neighbors for an evening of great food and community at Marlowe Manor Park! \n\n\n\nOn Thursday\, May 21\, 2026 from 4:00 PM to 7:00 PM\, Phillips’ Lips & Tips Mobile Food Trailer will be visiting Marlowe Manor. \n\n\n\nPhillips’ Lips & Tips is a popular Central Arkansas food trailer known for serving flavor-packed comfort food favorites\, often featuring menu items such as: \n\n\n\n\nPhilly cheesesteaks\n\n\n\nLoaded Philly fries and nachos\n\n\n\nChicken wings\n\n\n\nBurgers and other savory street-food favorites\n\n\n\n\nThe truck frequently travels throughout Arkansas bringing fresh\, made-to-order meals to local communities and events. \n\n\n\nThis is a great opportunity to grab dinner locally\, meet your neighbors\, and enjoy the park.
URL:https://www.marlowemanor.com/event/phillips-lips-tips-food-truck-at-marlowe-manor-park/
LOCATION:Marlowe Manor Park & Pool Parking Lot\, 2000 Shumate Drive\, Little Rock\, 72212\, United States
CATEGORIES:Food Trucks
ATTACH;FMTTYPE=image/jpeg:https://www.marlowemanor.com/wp-content/uploads/Phillips-Lips-Tips_400.jpg
END:VEVENT
END:VCALENDAR