BEGIN:VCALENDAR
VERSION:2.0
PRODID:-//MarloweManor.com - ECPv6.15.20//NONSGML v1.0//EN
CALSCALE:GREGORIAN
METHOD:PUBLISH
X-WR-CALNAME:MarloweManor.com
X-ORIGINAL-URL:https://www.marlowemanor.com
X-WR-CALDESC:Events for MarloweManor.com
REFRESH-INTERVAL;VALUE=DURATION:PT1H
X-Robots-Tag:noindex
X-PUBLISHED-TTL:PT1H
BEGIN:VTIMEZONE
TZID:America/Chicago
BEGIN:DAYLIGHT
TZOFFSETFROM:-0600
TZOFFSETTO:-0500
TZNAME:CDT
DTSTART:20250309T080000
END:DAYLIGHT
BEGIN:STANDARD
TZOFFSETFROM:-0500
TZOFFSETTO:-0600
TZNAME:CST
DTSTART:20251102T070000
END:STANDARD
BEGIN:DAYLIGHT
TZOFFSETFROM:-0600
TZOFFSETTO:-0500
TZNAME:CDT
DTSTART:20260308T080000
END:DAYLIGHT
BEGIN:STANDARD
TZOFFSETFROM:-0500
TZOFFSETTO:-0600
TZNAME:CST
DTSTART:20261101T070000
END:STANDARD
BEGIN:DAYLIGHT
TZOFFSETFROM:-0600
TZOFFSETTO:-0500
TZNAME:CDT
DTSTART:20270314T080000
END:DAYLIGHT
BEGIN:STANDARD
TZOFFSETFROM:-0500
TZOFFSETTO:-0600
TZNAME:CST
DTSTART:20271107T070000
END:STANDARD
END:VTIMEZONE
BEGIN:VEVENT
DTSTART;TZID=America/Chicago:20260730T160000
DTEND;TZID=America/Chicago:20260730T190000
DTSTAMP:20260423T184711
CREATED:20260315T003430Z
LAST-MODIFIED:20260315T003431Z
UID:2687-1785427200-1785438000@www.marlowemanor.com
SUMMARY:Enjoy Hibachi Express Food Truck at Marlowe Manor Park
DESCRIPTION:Come enjoy an evening of fresh hibachi and community at Marlowe Manor Park! \n\n\n\nOn Thursday\, July 30\, 2026 from 4:00 PM to 7:00 PM\, Enjoy Hibachi Express will be visiting Marlowe Manor. \n\n\n\nEnjoy Hibachi Express is a popular Central Arkansas food truck known for serving fresh hibachi-style meals cooked to order\, bringing the flavors of a Japanese steakhouse directly to local neighborhoods and community events. \n\n\n\nMenu favorites often include: \n\n\n\n\nHibachi chicken\n\n\n\nHibachi steak\n\n\n\nHibachi shrimp\n\n\n\nFried rice and noodles\n\n\n\nFresh grilled vegetables\n\n\n\n\nEach meal is prepared hot and fresh on the truck’s grill\, making it a great option for a quick and flavorful dinner in the neighborhood. \n\n\n\nBring your family\, meet your neighbors\, and enjoy dinner at the park!
URL:https://www.marlowemanor.com/event/enjoy-hibachi-express-food-truck-at-marlowe-manor-park-2/
LOCATION:Marlowe Manor Park & Pool Parking Lot\, 2000 Shumate Drive\, Little Rock\, 72212\, United States
CATEGORIES:Food Trucks
ATTACH;FMTTYPE=image/jpeg:https://www.marlowemanor.com/wp-content/uploads/Enjoy-Hibachi-Express.jpg
END:VEVENT
END:VCALENDAR