BEGIN:VCALENDAR
VERSION:2.0
PRODID:-//MarloweManor.com - ECPv6.15.20//NONSGML v1.0//EN
CALSCALE:GREGORIAN
METHOD:PUBLISH
X-ORIGINAL-URL:https://www.marlowemanor.com
X-WR-CALDESC:Events for MarloweManor.com
REFRESH-INTERVAL;VALUE=DURATION:PT1H
X-Robots-Tag:noindex
X-PUBLISHED-TTL:PT1H
BEGIN:VTIMEZONE
TZID:America/Chicago
BEGIN:DAYLIGHT
TZOFFSETFROM:-0600
TZOFFSETTO:-0500
TZNAME:CDT
DTSTART:20230312T080000
END:DAYLIGHT
BEGIN:STANDARD
TZOFFSETFROM:-0500
TZOFFSETTO:-0600
TZNAME:CST
DTSTART:20231105T070000
END:STANDARD
BEGIN:DAYLIGHT
TZOFFSETFROM:-0600
TZOFFSETTO:-0500
TZNAME:CDT
DTSTART:20240310T080000
END:DAYLIGHT
BEGIN:STANDARD
TZOFFSETFROM:-0500
TZOFFSETTO:-0600
TZNAME:CST
DTSTART:20241103T070000
END:STANDARD
BEGIN:DAYLIGHT
TZOFFSETFROM:-0600
TZOFFSETTO:-0500
TZNAME:CDT
DTSTART:20250309T080000
END:DAYLIGHT
BEGIN:STANDARD
TZOFFSETFROM:-0500
TZOFFSETTO:-0600
TZNAME:CST
DTSTART:20251102T070000
END:STANDARD
END:VTIMEZONE
BEGIN:VEVENT
DTSTART;TZID=America/Chicago:20240612T160000
DTEND;TZID=America/Chicago:20240612T200000
DTSTAMP:20260425T102608
CREATED:20240611T160443Z
LAST-MODIFIED:20240611T213747Z
UID:1751-1718208000-1718222400@www.marlowemanor.com
SUMMARY:La Casa De Mi Abuelita Mawmaw's House
DESCRIPTION:Experience the best of authentic Mexican cuisine with La Casa De Mi Abuelita\, also known as Maw Maw’s House. Founded in 2020 by chefs Geovanny and Neena Villagran\, this beloved Arkansas food truck is famous for its quesabirria tacos\, bursting with flavor and made from locally sourced ingredients. Visit their permanent location in Cabot or catch them at various spots around Benton\, Little Rock\, Maumelle\, and Sheridan. Don’t miss their unique birria ramen and other mouth-watering dishes. Follow Maw Maw’s House for the latest updates and locations. Visit Maw Maw’s House today!Facebook:  https://www.facebook.com/mawmawshousellc \n\n\n\n\n\n\n\n\n\n\n\n\n\n\n\n(menu item and prices subject to change)
URL:https://www.marlowemanor.com/event/la-casa-de-mi-abuelita-mawmaws-house/
LOCATION:Marlowe Manor Park & Pool Parking Lot\, 2000 Shumate Drive\, Little Rock\, 72212\, United States
CATEGORIES:Food Trucks
ATTACH;FMTTYPE=image/jpeg:https://www.marlowemanor.com/wp-content/uploads/LaCasaLogo.jpg
END:VEVENT
END:VCALENDAR