BEGIN:VCALENDAR
VERSION:2.0
PRODID:-//MarloweManor.com - ECPv6.15.20//NONSGML v1.0//EN
CALSCALE:GREGORIAN
METHOD:PUBLISH
X-ORIGINAL-URL:https://www.marlowemanor.com
X-WR-CALDESC:Events for MarloweManor.com
REFRESH-INTERVAL;VALUE=DURATION:PT1H
X-Robots-Tag:noindex
X-PUBLISHED-TTL:PT1H
BEGIN:VTIMEZONE
TZID:America/Chicago
BEGIN:DAYLIGHT
TZOFFSETFROM:-0600
TZOFFSETTO:-0500
TZNAME:CDT
DTSTART:20230312T080000
END:DAYLIGHT
BEGIN:STANDARD
TZOFFSETFROM:-0500
TZOFFSETTO:-0600
TZNAME:CST
DTSTART:20231105T070000
END:STANDARD
BEGIN:DAYLIGHT
TZOFFSETFROM:-0600
TZOFFSETTO:-0500
TZNAME:CDT
DTSTART:20240310T080000
END:DAYLIGHT
BEGIN:STANDARD
TZOFFSETFROM:-0500
TZOFFSETTO:-0600
TZNAME:CST
DTSTART:20241103T070000
END:STANDARD
BEGIN:DAYLIGHT
TZOFFSETFROM:-0600
TZOFFSETTO:-0500
TZNAME:CDT
DTSTART:20250309T080000
END:DAYLIGHT
BEGIN:STANDARD
TZOFFSETFROM:-0500
TZOFFSETTO:-0600
TZNAME:CST
DTSTART:20251102T070000
END:STANDARD
BEGIN:DAYLIGHT
TZOFFSETFROM:-0600
TZOFFSETTO:-0500
TZNAME:CDT
DTSTART:20260308T080000
END:DAYLIGHT
BEGIN:STANDARD
TZOFFSETFROM:-0500
TZOFFSETTO:-0600
TZNAME:CST
DTSTART:20261101T070000
END:STANDARD
END:VTIMEZONE
BEGIN:VEVENT
DTSTART;TZID=America/Chicago:20250901T110000
DTEND;TZID=America/Chicago:20250901T200000
DTSTAMP:20260423T141138
CREATED:20250405T220325Z
LAST-MODIFIED:20250829T173105Z
UID:2393-1756724400-1756756800@www.marlowemanor.com
SUMMARY:Labor Day - Neighborhood Open Swim
DESCRIPTION:☀️ Labor Day Open Swim at Marlowe Manor – Monday\, September 1st\, 2025 🇺🇸 \n\n\n\nClose out the summer in style at the Marlowe Manor Neighborhood Pool! Join us on Labor Day\, Monday\, September 1st\, for one last splash before the season ends. \n\n\n\nThis event is open to all residents in good standing and current pool members — no membership required for this special day! \n\n\n\n🌭 Free pizza and water will be available while supplies last🍦 The concession stand will be open with cool treats and snacks for purchase \n\n\n\nImportant Notes: \n\n\n\n\nNon-member residents must provide their Marlowe Manor address upon entry\n\n\n\nAll addresses must reflect a zero balance to be considered in good standing\n\n\n\nPlease review all posted pool rules prior to arrival\n\n\n\nThis will be the final pool day of the 2025 season — don’t miss it!\n\n\n\n\nLet’s send off summer with one more day of sun\, swimming\, and neighborhood fun! 🏖️💧
URL:https://www.marlowemanor.com/event/labor-day-neighborhood-open-swim/
LOCATION:Marlowe Manor Park & Pool Parking Lot\, 2000 Shumate Drive\, Little Rock\, 72212\, United States
CATEGORIES:Pool Party - Open Swim
ATTACH;FMTTYPE=image/png:https://www.marlowemanor.com/wp-content/uploads/Marlowe-Manor-Labor-Day-2025-Open-Swim.png
END:VEVENT
BEGIN:VEVENT
DTSTART;TZID=America/Chicago:20250704T110000
DTEND;TZID=America/Chicago:20250704T210000
DTSTAMP:20260423T141138
CREATED:20250405T215231Z
LAST-MODIFIED:20250405T220351Z
UID:2390-1751626800-1751662800@www.marlowemanor.com
SUMMARY:Independence Day Open Swim - July 4th
DESCRIPTION:🎆 Marlowe Manor 4th of July Pool Party – Open Swim Event for Residents & Members 🎇 \n\n\n\nLooking for a fun and festive 4th of July event in Marlowe Manor? Join us for our annual Open Swim at the Marlowe Manor Neighborhood Pool! This special Independence Day celebration is open to all residents in good standing and current pool members — no membership required for the day! \n\n\n\nWhat’s Happening: \n\n\n\n\n🌭 Free food: Hot dogs\, chips\, and drinks — available while supplies last!\n\n\n\n🪑 Limited seating: Bring your own lawn chair or poolside seating.\n\n\n\n🍧 Concession stand: Open with sweet treats and snacks for purchase.\n\n\n\n\nEvent Details: \n\n\n\n\n📍 Location: Marlowe Manor Neighborhood Pool\n\n\n\n📅 Date: Friday\, July 4th 2025\n\n\n\n🕒 Time: [Insert Time Here — e.g.\, 12:00 PM – 6:00 PM]\n\n\n\n\nImportant Entry Guidelines: \n\n\n\n\nResidents who are not pool members must provide proof of address upon entry.\n\n\n\nAll addresses must reflect a zero balance (i.e.\, be in good standing) to participate.\n\n\n\nAll guests are expected to follow the posted Marlowe Manor pool rules for safety and enjoyment.\n\n\n\n\nCelebrate the 4th of July with family\, friends\, and neighbors right here in Marlowe Manor. Whether you’re lounging poolside or diving into the fun\, it’s the perfect way to stay cool and enjoy summer.
URL:https://www.marlowemanor.com/event/independence-day-open-swim-july-4th/
LOCATION:Marlowe Manor Park & Pool Parking Lot\, 2000 Shumate Drive\, Little Rock\, 72212\, United States
CATEGORIES:Pool Party - Open Swim
ATTACH;FMTTYPE=image/webp:https://www.marlowemanor.com/wp-content/uploads/DALL·E-2025-04-05-16.40.49-A-wide-graphic-for-a-4th-of-July-pool-party-event-at-a-neighborhood-swimming-pool.-The-scene-shows-a-festive-outdoor-swimming-pool-area-decorated-wit.webp
END:VEVENT
BEGIN:VEVENT
DTSTART;TZID=America/Chicago:20250531T110000
DTEND;TZID=America/Chicago:20250531T200000
DTSTAMP:20260423T141138
CREATED:20250219T160358Z
LAST-MODIFIED:20250526T140306Z
UID:2274-1748689200-1748721600@www.marlowemanor.com
SUMMARY:Memorial Day - Neighborhood Open Swim
DESCRIPTION:Marlowe Manor Neighborhood Open Swim  Day – Memorial Day \n\n\n\n\n\n\n\n🇺🇸 Memorial Day Open Swim – Marlowe Manor NeighborhoodMonday\, May 31st\, 2025 \n\n\n\nDue to cold weather and rain\, the Memorial Day Neighborhood Party has been moved from Monday\, May 26th to Saturday\, May 31st. \n\n\n\nStart the summer season with a splash! Join your neighbors at the Marlowe Manor Neighborhood Pool this Memorial Day for a day of swimming\, sunshine\, and community fun. \n\n\n\nThis special event is open to all residents in good standing and current pool members — no membership required for the day! \n\n\n\n🌭 Free hot dogs\, chips\, and drinks will be served while supplies last🪑 Seating is limited — please bring your own chair just in case🍧 The concession stand will be open with cool treats and snacks available for purchase \n\n\n\nImportant Notes: \n\n\n\n\nNon-member residents must provide their Marlowe Manor address upon entry\n\n\n\nAddresses must reflect a zero balance to be considered in good standing\n\n\n\nPlease be sure to review pool rules prior to attending\n\n\n\n\nLet’s honor the day with a celebration of community and connection — and kick off the summer together at the pool! 💧☀️🇺🇸
URL:https://www.marlowemanor.com/event/swimming-pool-opening-day-memorial-day/
LOCATION:Marlowe Manor Park & Pool Parking Lot\, 2000 Shumate Drive\, Little Rock\, 72212\, United States
CATEGORIES:Pool Party - Open Swim
ATTACH;FMTTYPE=image/png:https://www.marlowemanor.com/wp-content/uploads/Memorial-Day-May-26th-Open-Swim.png
END:VEVENT
BEGIN:VEVENT
DTSTART;TZID=America/Chicago:20240704T110000
DTEND;TZID=America/Chicago:20240704T200000
DTSTAMP:20260423T141138
CREATED:20240531T145226Z
LAST-MODIFIED:20240606T180637Z
UID:1628-1720090800-1720123200@www.marlowemanor.com
SUMMARY:Marlow Manor Community Pool Party for Independence Day
DESCRIPTION:  \nPlease join us on Independence Day at the PoolMembers who are current with their POA Dues as well as Members pool members are welcome to join us! \nMembers may need to bring their own chairs as seats AND tables fill up fast. \nHot Dogs\, Chips\, and Water will be available on a first come\, first serve basis.  Once gone\, it’s gone.
URL:https://www.marlowemanor.com/event/marlow-manor-community-pool-party/
LOCATION:Marlowe Manor Park & Pool Parking Lot\, 2000 Shumate Drive\, Little Rock\, 72212\, United States
CATEGORIES:Pool Party - Open Swim
ATTACH;FMTTYPE=image/jpeg:https://www.marlowemanor.com/wp-content/uploads/IndependenceDay_Party.jpg
END:VEVENT
END:VCALENDAR