BEGIN:VCALENDAR
VERSION:2.0
PRODID:-//MarloweManor.com - ECPv6.15.20//NONSGML v1.0//EN
CALSCALE:GREGORIAN
METHOD:PUBLISH
X-WR-CALNAME:MarloweManor.com
X-ORIGINAL-URL:https://www.marlowemanor.com
X-WR-CALDESC:Events for MarloweManor.com
REFRESH-INTERVAL;VALUE=DURATION:PT1H
X-Robots-Tag:noindex
X-PUBLISHED-TTL:PT1H
BEGIN:VTIMEZONE
TZID:America/Chicago
BEGIN:DAYLIGHT
TZOFFSETFROM:-0600
TZOFFSETTO:-0500
TZNAME:CDT
DTSTART:20240310T080000
END:DAYLIGHT
BEGIN:STANDARD
TZOFFSETFROM:-0500
TZOFFSETTO:-0600
TZNAME:CST
DTSTART:20241103T070000
END:STANDARD
BEGIN:DAYLIGHT
TZOFFSETFROM:-0600
TZOFFSETTO:-0500
TZNAME:CDT
DTSTART:20250309T080000
END:DAYLIGHT
BEGIN:STANDARD
TZOFFSETFROM:-0500
TZOFFSETTO:-0600
TZNAME:CST
DTSTART:20251102T070000
END:STANDARD
BEGIN:DAYLIGHT
TZOFFSETFROM:-0600
TZOFFSETTO:-0500
TZNAME:CDT
DTSTART:20260308T080000
END:DAYLIGHT
BEGIN:STANDARD
TZOFFSETFROM:-0500
TZOFFSETTO:-0600
TZNAME:CST
DTSTART:20261101T070000
END:STANDARD
END:VTIMEZONE
BEGIN:VEVENT
DTSTART;TZID=America/Chicago:20250118T171500
DTEND;TZID=America/Chicago:20250118T181500
DTSTAMP:20260424T215308
CREATED:20250115T140037Z
LAST-MODIFIED:20250116T152721Z
UID:1647-1737220500-1737224100@www.marlowemanor.com
SUMMARY:Marlow Manor Property Owners Association Members Meeting & Election of Officers
DESCRIPTION:📅 Date: Saturday\, January 18\, 2025🕕 Time: 5:15 PM📍 Location: Adolphine Fletcher Terry Library (“Terry Library”)Address: 2015 Napa Valley Drive\, Little Rock\, AR 72211 \n\n\n\nDuring this meeting\, we will: \n\n\n\n\n\n\n\n\n     ·Review the association’s 2024 events.·\n\n\n\n     ·Discuss the 2025 Budget and changes to the 2025 Bill of Assurance (BOA).·\n\n\n\n        ·Plan upcoming community events.\n\n\n\n\n\n\n\n\nThis meeting is expected to last at least one to two hours\, as we have a detailed presentation and plenty to cover. It has been an incredible year thanks to the hard work of our dedicated volunteers\, and we will take this opportunity to highlight their achievements as well as the boards performance! \n\n\n\n \n\n\n\n\n\n\n\n​Please note: This meeting will not be held virtually.For new residents\, this is an excellent opportunity to:· \n\n\n\n\n\n\n\n\n     ·Meet the Marlowe Manor Board of Directors\n\n\n\n     ·Connect with fellow community members.\n\n\n\n     ·Voice any questions or concerns you may have.\n\n\n\n     ·See what Marlowe Manor has to offer!\n\n\n\n\n\n\n\n\n​A formal meeting notice was sent by postal mail to all residents during the week of December 18th.
URL:https://www.marlowemanor.com/event/marlow-manor-property-owners-association-members-meeting-election-of-officers/
LOCATION:Adolphine Fletcher Terry Library\, 2015 Napa Valley Drive\, Little Rock\, AR\, 72211\, United States
CATEGORIES:Property Owners Association Meetings
ATTACH;FMTTYPE=image/png:https://www.marlowemanor.com/wp-content/uploads/MM-Meeting-Jan18-2025.png
END:VEVENT
BEGIN:VEVENT
DTSTART;TZID=America/Chicago:20250118T171500
DTEND;TZID=America/Chicago:20250118T181500
DTSTAMP:20260424T215308
CREATED:20250116T153040Z
LAST-MODIFIED:20250116T153414Z
UID:2238-1737220500-1737224100@www.marlowemanor.com
SUMMARY:Marlow Manor Property Owners Association Members Meeting & Election of Officers
DESCRIPTION:THIS MEETING WAS ORIGINALLY SCHEDULE FOR THRUSDAY\, JANUARY 9TH AT 6PM\, HOWEVER\, DUE TO SNOW\, THIS HAD TO BE RESCHEDULED \n\n\n\n📅 Date: Saturday\, January 18\, 2025🕕 Time: 5:15 PM📍 Location: Adolphine Fletcher Terry Library (“Terry Library”)Address: 2015 Napa Valley Drive\, Little Rock\, AR 72211 \n\n\n\nDuring this meeting\, we will: \n\n\n\n\n\n\n\n\n     ·Review the association’s 2024 events.·\n\n\n\n     ·Discuss the 2025 Budget and changes to the 2025 Bill of Assurance (BOA).·\n\n\n\n        ·Plan upcoming community events.\n\n\n\n\n\n\n\n\nThis meeting is expected to last at least one hour\, as we have a detailed presentation and plenty to cover. It has been an incredible year thanks to the hard work of our dedicated volunteers\, and we will take this opportunity to highlight their achievements as well as the boards performance! \n\n\n\n \n\n\n\n\n\n\n\n​Please note: This meeting will not be held virtually.For new residents\, this is an excellent opportunity to:· \n\n\n\n\n\n\n\n     ·See what Marlowe Manor has to offer! \n\n\n\n     ·Meet the Marlowe Manor Board of Directors \n\n\n\n     ·Connect with fellow community members. \n\n\n\n     ·Voice any questions or concerns you may have.
URL:https://www.marlowemanor.com/event/marlow-manor-property-owners-association-members-meeting-election-of-officers-2/
LOCATION:Adolphine Fletcher Terry Library\, 2015 Napa Valley Drive\, Little Rock\, AR\, 72211\, United States
CATEGORIES:Property Owners Association Meetings
ATTACH;FMTTYPE=image/png:https://www.marlowemanor.com/wp-content/uploads/MM-Meeting-Jan18-2025.png
END:VEVENT
END:VCALENDAR