BEGIN:VCALENDAR
VERSION:2.0
PRODID:-//MarloweManor.com - ECPv6.15.20//NONSGML v1.0//EN
CALSCALE:GREGORIAN
METHOD:PUBLISH
X-WR-CALNAME:MarloweManor.com
X-ORIGINAL-URL:https://www.marlowemanor.com
X-WR-CALDESC:Events for MarloweManor.com
REFRESH-INTERVAL;VALUE=DURATION:PT1H
X-Robots-Tag:noindex
X-PUBLISHED-TTL:PT1H
BEGIN:VTIMEZONE
TZID:America/Chicago
BEGIN:DAYLIGHT
TZOFFSETFROM:-0600
TZOFFSETTO:-0500
TZNAME:CDT
DTSTART:20250309T080000
END:DAYLIGHT
BEGIN:STANDARD
TZOFFSETFROM:-0500
TZOFFSETTO:-0600
TZNAME:CST
DTSTART:20251102T070000
END:STANDARD
BEGIN:DAYLIGHT
TZOFFSETFROM:-0600
TZOFFSETTO:-0500
TZNAME:CDT
DTSTART:20260308T080000
END:DAYLIGHT
BEGIN:STANDARD
TZOFFSETFROM:-0500
TZOFFSETTO:-0600
TZNAME:CST
DTSTART:20261101T070000
END:STANDARD
BEGIN:DAYLIGHT
TZOFFSETFROM:-0600
TZOFFSETTO:-0500
TZNAME:CDT
DTSTART:20270314T080000
END:DAYLIGHT
BEGIN:STANDARD
TZOFFSETFROM:-0500
TZOFFSETTO:-0600
TZNAME:CST
DTSTART:20271107T070000
END:STANDARD
BEGIN:DAYLIGHT
TZOFFSETFROM:-0600
TZOFFSETTO:-0500
TZNAME:CDT
DTSTART:20280312T080000
END:DAYLIGHT
BEGIN:STANDARD
TZOFFSETFROM:-0500
TZOFFSETTO:-0600
TZNAME:CST
DTSTART:20281105T070000
END:STANDARD
END:VTIMEZONE
BEGIN:VEVENT
DTSTART;TZID=America/Chicago:20260514T160000
DTEND;TZID=America/Chicago:20260514T190000
DTSTAMP:20260423T190345
CREATED:20260315T000940Z
LAST-MODIFIED:20260315T000941Z
UID:2666-1778774400-1778785200@www.marlowemanor.com
SUMMARY:La Loncheria Food Truck at Marlowe Manor Park
DESCRIPTION:Loncheria Mexicana Alicia  (Lupitas Food Truck)\n\n\n\nCome enjoy an evening of great food and community at Marlowe Manor Park! \n\n\n\nOn Thursday\, May 14th from 4:00 PM to 7:00 PM\, the La Loncheria Food Truck will be visiting Marlowe Manor. Residents and guests are invited to stop by the park\, grab dinner\, and enjoy time with neighbors. \n\n\n\nLa Loncheria is known for serving fresh\, authentic Mexican street food\, with menu favorites that often include: \n\n\n\n\nStreet tacos\n\n\n\nBurritos\n\n\n\nQuesadillas\n\n\n\nNachos\n\n\n\nOther classic Mexican dishes and sides\n\n\n\n\nMany lonchería-style food trucks focus on freshly prepared\, flavorful Mexican comfort food\, offering quick meals that are perfect for family dinners or a casual evening in the neighborhood. \n\n\n\nBring your family\, meet your neighbors\, and support a local food truck while enjoying the park.
URL:https://www.marlowemanor.com/event/la-loncheria-food-truck-at-marlowe-manor-park/
LOCATION:Marlowe Manor Park & Pool Parking Lot\, 2000 Shumate Drive\, Little Rock\, 72212\, United States
CATEGORIES:Food Trucks
ATTACH;FMTTYPE=image/jpeg:https://www.marlowemanor.com/wp-content/uploads/Luncheria-Mexicana-Alicia_new.jpg
END:VEVENT
BEGIN:VEVENT
DTSTART;TZID=America/Chicago:20260521T160000
DTEND;TZID=America/Chicago:20260521T190000
DTSTAMP:20260423T190345
CREATED:20260315T001338Z
LAST-MODIFIED:20260315T001339Z
UID:2668-1779379200-1779390000@www.marlowemanor.com
SUMMARY:Phillips’ Lips & Tips Food Truck at Marlowe Manor Park
DESCRIPTION:Join your neighbors for an evening of great food and community at Marlowe Manor Park! \n\n\n\nOn Thursday\, May 21\, 2026 from 4:00 PM to 7:00 PM\, Phillips’ Lips & Tips Mobile Food Trailer will be visiting Marlowe Manor. \n\n\n\nPhillips’ Lips & Tips is a popular Central Arkansas food trailer known for serving flavor-packed comfort food favorites\, often featuring menu items such as: \n\n\n\n\nPhilly cheesesteaks\n\n\n\nLoaded Philly fries and nachos\n\n\n\nChicken wings\n\n\n\nBurgers and other savory street-food favorites\n\n\n\n\nThe truck frequently travels throughout Arkansas bringing fresh\, made-to-order meals to local communities and events. \n\n\n\nThis is a great opportunity to grab dinner locally\, meet your neighbors\, and enjoy the park.
URL:https://www.marlowemanor.com/event/phillips-lips-tips-food-truck-at-marlowe-manor-park/
LOCATION:Marlowe Manor Park & Pool Parking Lot\, 2000 Shumate Drive\, Little Rock\, 72212\, United States
CATEGORIES:Food Trucks
ATTACH;FMTTYPE=image/jpeg:https://www.marlowemanor.com/wp-content/uploads/Phillips-Lips-Tips_400.jpg
END:VEVENT
BEGIN:VEVENT
DTSTART;TZID=America/Chicago:20260525T110000
DTEND;TZID=America/Chicago:20260525T200000
DTSTAMP:20260423T190345
CREATED:20260316T193542Z
LAST-MODIFIED:20260316T193543Z
UID:2689-1779706800-1779739200@www.marlowemanor.com
SUMMARY:Memorial Day Pool Party
DESCRIPTION:Join your neighbors for a Memorial Day Pool Party at Marlowe Manor Pool as we kick off the start of summer together. \n\n\n\nOn Monday\, May 25\, 2026\, Marlowe Manor residents are invited to enjoy a day at the pool with friends\, family\, and neighbors. This special neighborhood gathering is a great opportunity to relax\, cool off\, and celebrate the holiday together. \n\n\n\nThis event is open to Marlowe Manor residents in good standing. Residents may enjoy the pool during this event even if they are not current pool members for the 2026 season. \n\n\n\nPool memberships for the 2026 season will also be available for those who wish to sign up during the event. \n\n\n\nBring your family\, enjoy the water\, and spend time with your neighbors as we celebrate Memorial Day together at the pool.
URL:https://www.marlowemanor.com/event/memorial-day-pool-party/
LOCATION:Marlowe Manor Park & Pool Parking Lot\, 2000 Shumate Drive\, Little Rock\, 72212\, United States
CATEGORIES:Pool Party - Open Swim
ATTACH;FMTTYPE=image/png:https://www.marlowemanor.com/wp-content/uploads/Pool_Party_05-25-2026.png
END:VEVENT
BEGIN:VEVENT
DTSTART;TZID=America/Chicago:20260525T150000
DTEND;TZID=America/Chicago:20260525T190000
DTSTAMP:20260423T190345
CREATED:20260315T001910Z
LAST-MODIFIED:20260315T002241Z
UID:2671-1779721200-1779735600@www.marlowemanor.com
SUMMARY:The Dessert Lab Food Truck at Marlowe Manor Park
DESCRIPTION:Come treat yourself and your family to a sweet afternoon at Marlowe Manor Park! \n\n\n\nOn Monday\, May 25\, 2026 from 3:00 PM to 7:00 PM\, The Dessert Lab Food Truck will be visiting Marlowe Manor. \n\n\n\n✨ New to Marlowe Manor! We’re excited to welcome The Dessert Lab for their first visit to the neighborhood. \n\n\n\nThe Dessert Lab is a Little Rock dessert food truck known for serving creative\, customizable sweet treats\, including: \n\n\n\n\nFresh mini pancakes with toppings and drizzles\n\n\n\nHand-dipped ice cream bars\n\n\n\nSpecialty “dirty sodas” with fun flavor combinations\n\n\n\nOther unique dessert creations\n\n\n\n\nThe truck brings a fun twist to classic desserts\, allowing customers to mix and match toppings and flavors to create their own perfect treat. \n\n\n\nThis is a great opportunity to enjoy dessert in the park\, meet neighbors\, and support a local food truck.
URL:https://www.marlowemanor.com/event/the-dessert-lab-food-truck-at-marlowe-manor-park/
LOCATION:Marlowe Manor Park & Pool Parking Lot\, 2000 Shumate Drive\, Little Rock\, 72212\, United States
CATEGORIES:Food Trucks
ATTACH;FMTTYPE=image/jpeg:https://www.marlowemanor.com/wp-content/uploads/The-Dessert-Lab-Truck.jpg
END:VEVENT
BEGIN:VEVENT
DTSTART;TZID=America/Chicago:20260604T160000
DTEND;TZID=America/Chicago:20260604T190000
DTSTAMP:20260423T190345
CREATED:20260315T002501Z
LAST-MODIFIED:20260315T002521Z
UID:2676-1780588800-1780599600@www.marlowemanor.com
SUMMARY:Enjoy Hibachi Express Food Truck at Marlowe Manor Park
DESCRIPTION:Come enjoy an evening of fresh hibachi and great community at Marlowe Manor Park! \n\n\n\nOn Thursday\, June 4\, 2026 from 4:00 PM to 7:00 PM\, Enjoy Hibachi Express will be visiting Marlowe Manor. \n\n\n\nEnjoy Hibachi Express is a local food truck known for serving fresh hibachi-style meals cooked to order\, bringing the flavors of Japanese steakhouse cooking to community events throughout Central Arkansas. \n\n\n\nMenu favorites often include: \n\n\n\n\nHibachi chicken\n\n\n\nHibachi steak\n\n\n\nHibachi shrimp\n\n\n\nFried rice and noodles\n\n\n\nFresh vegetables cooked on the grill\n\n\n\n\nEach meal is prepared hot and fresh on the truck’s grill\, making it a perfect option for a quick and flavorful dinner in the neighborhood. \n\n\n\nBring your family\, meet your neighbors\, and enjoy dinner at the park!
URL:https://www.marlowemanor.com/event/enjoy-hibachi-express-food-truck-at-marlowe-manor-park/
LOCATION:Marlowe Manor Park & Pool Parking Lot\, 2000 Shumate Drive\, Little Rock\, 72212\, United States
CATEGORIES:Food Trucks
ATTACH;FMTTYPE=image/jpeg:https://www.marlowemanor.com/wp-content/uploads/Enjoy-Hibachi-Express.jpg
END:VEVENT
BEGIN:VEVENT
DTSTART;TZID=America/Chicago:20260611T160000
DTEND;TZID=America/Chicago:20260611T190000
DTSTAMP:20260423T190345
CREATED:20260315T002739Z
LAST-MODIFIED:20260315T002740Z
UID:2680-1781193600-1781204400@www.marlowemanor.com
SUMMARY:Haygood BBQ Food Truck at Marlowe Manor Park
DESCRIPTION:Join your neighbors for an evening of great barbecue and community at Marlowe Manor Park! \n\n\n\nOn Thursday\, June 11\, 2026 from 4:00 PM to 7:00 PM\, Haygood BBQ will be visiting Marlowe Manor. \n\n\n\nHaygood BBQ is a Central Arkansas barbecue vendor known for serving slow-smoked meats and classic Southern barbecue favorites. Guests can expect freshly prepared barbecue cooked low and slow\, with menu items that may include: \n\n\n\n\nSmoked pulled pork\n\n\n\nBrisket\n\n\n\nSmoked chicken\n\n\n\nBarbecue sandwiches\n\n\n\nTraditional barbecue sides\n\n\n\n\nIt’s the perfect opportunity to grab dinner\, meet your neighbors\, and enjoy the park while supporting a local barbecue vendor. \n\n\n\nBring your family\, bring a lawn chair if you’d like to relax in the park\, and come hungry!
URL:https://www.marlowemanor.com/event/haygood-bbq-food-truck-at-marlowe-manor-park/
LOCATION:Marlowe Manor Park & Pool Parking Lot\, 2000 Shumate Drive\, Little Rock\, 72212\, United States
CATEGORIES:Food Trucks
ATTACH;FMTTYPE=image/jpeg:https://www.marlowemanor.com/wp-content/uploads/HayGood-BBQ.jpg
END:VEVENT
BEGIN:VEVENT
DTSTART;TZID=America/Chicago:20260618T160000
DTEND;TZID=America/Chicago:20260618T190000
DTSTAMP:20260423T190345
CREATED:20260315T002936Z
LAST-MODIFIED:20260315T003447Z
UID:2683-1781798400-1781809200@www.marlowemanor.com
SUMMARY:Souf Mouf Southern Eatery Food Truck at Marlowe Manor Park
DESCRIPTION:Come enjoy an evening of Southern comfort food and community at Marlowe Manor Park! \n\n\n\nOn Thursday\, June 18\, 2026 from 4:00 PM to 7:00 PM\, the Souf Mouf Southern Eatery Food Truck will be visiting Marlowe Manor. \n\n\n\nSouf Mouf Southern Eatery is a Central Arkansas food truck known for serving flavorful Southern-inspired dishes that combine classic comfort food with bold\, creative flavors. \n\n\n\nMenu favorites often include items such as: \n\n\n\n\nSouthern-style chicken and comfort plates\n\n\n\nLoaded fries and specialty sides\n\n\n\nStreet-style comfort food creations\n\n\n\nRotating chef specialties\n\n\n\n\nSouf Mouf has become a popular food truck around Little Rock\, bringing big Southern flavor and freshly prepared meals to local events and neighborhoods. \n\n\n\nBring your family\, meet your neighbors\, and enjoy dinner at the park!
URL:https://www.marlowemanor.com/event/souf-mouf-southern-eatery-food-truck-at-marlowe-manor-park/
LOCATION:Marlowe Manor Park & Pool Parking Lot\, 2000 Shumate Drive\, Little Rock\, 72212\, United States
CATEGORIES:Food Trucks
ATTACH;FMTTYPE=image/jpeg:https://www.marlowemanor.com/wp-content/uploads/Souf-Mouf-Southern-Eatery.jpg
END:VEVENT
BEGIN:VEVENT
DTSTART;TZID=America/Chicago:20260702T190000
DTEND;TZID=America/Chicago:20260702T200000
DTSTAMP:20260423T190345
CREATED:20260314T234604Z
LAST-MODIFIED:20260315T000006Z
UID:2657-1783018800-1783022400@www.marlowemanor.com
SUMMARY:Marlowe Manor Property Owners Association Members Meeting - July 2026
DESCRIPTION:The Marlowe Manor Property Owners Association (MMPOA) will hold its Members Meeting via Zoom on Thursday\, July 2nd at 7:00 PM. \n\n\n\nThese meetings give property owners the opportunity to stay informed about neighborhood activities\, community updates\, and upcoming events within Marlowe Manor. \n\n\n\nTopics may include: \n\n\n\n\nNeighborhood updates\n\n\n\nPool operations and summer activities\n\n\n\nCommunity events\n\n\n\nOther items of interest to property owners\n\n\n\n\nThis meeting will be conducted virtually via Zoom\, allowing members to participate from home. \n\n\n\nZoom meeting details will be sent to members prior to the meeting. \n\n\n\nAll Marlowe Manor property owners are encouraged to attend and stay engaged with the community.
URL:https://www.marlowemanor.com/event/marlowe-manor-property-owners-association-members-meeting-july-2026/
LOCATION:Zoom (Virtual/Online)
CATEGORIES:Property Owners Association Meetings
ATTACH;FMTTYPE=image/png:https://www.marlowemanor.com/wp-content/uploads/July-2026-Marlowe-Manor-Members-Meeting.png
END:VEVENT
BEGIN:VEVENT
DTSTART;TZID=America/Chicago:20260704T110000
DTEND;TZID=America/Chicago:20260704T210000
DTSTAMP:20260423T190345
CREATED:20260316T194428Z
LAST-MODIFIED:20260316T194429Z
UID:2692-1783162800-1783198800@www.marlowemanor.com
SUMMARY:Independence Day Pool Party
DESCRIPTION:Celebrate Independence Day with your neighbors at the Marlowe Manor Independence Day Pool Party! \n\n\n\nJoin the community on Saturday\, July 4\, 2026\, for a fun day of swimming\, sunshine\, and neighborhood fellowship at the Marlowe Manor Pool. This special holiday gathering is a great opportunity to cool off\, spend time with friends and neighbors\, and celebrate the Fourth of July together. \n\n\n\nThis event is open to Marlowe Manor residents in good standing. Residents may enjoy the pool during this special holiday event even if they are not currently enrolled as pool members for the 2026 season. \n\n\n\nBring your family\, relax by the water\, and enjoy a festive summer day with your neighbors at Marlowe Manor Pool.
URL:https://www.marlowemanor.com/event/independence-day-pool-party/
LOCATION:Marlowe Manor Park & Pool Parking Lot\, 2000 Shumate Drive\, Little Rock\, 72212\, United States
CATEGORIES:Pool Party - Open Swim
ATTACH;FMTTYPE=image/png:https://www.marlowemanor.com/wp-content/uploads/Independence-Day-07-04-2026.png
END:VEVENT
BEGIN:VEVENT
DTSTART;TZID=America/Chicago:20260723T160000
DTEND;TZID=America/Chicago:20260723T190000
DTSTAMP:20260423T190345
CREATED:20260315T003157Z
LAST-MODIFIED:20260315T003158Z
UID:2685-1784822400-1784833200@www.marlowemanor.com
SUMMARY:Souf Mouf Southern Eatery Food Truck at Marlowe Manor Park
DESCRIPTION:Come enjoy an evening of Southern comfort food and community at Marlowe Manor Park! \n\n\n\nOn Thursday\, July 23\, 2026 from 4:00 PM to 7:00 PM\, the Souf Mouf Southern Eatery Food Truck will be visiting Marlowe Manor. \n\n\n\nSouf Mouf Southern Eatery is a Central Arkansas food truck known for serving bold Southern-inspired comfort food with big flavors and creative twists on classic dishes. \n\n\n\nMenu favorites often include: \n\n\n\n\nSouthern-style chicken and comfort plates\n\n\n\nLoaded fries and specialty sides\n\n\n\nStreet-style comfort food creations\n\n\n\nRotating chef specialties\n\n\n\n\nSouf Mouf has become a popular food truck around the Little Rock area\, bringing freshly prepared meals and Southern flavor to local neighborhoods and events. \n\n\n\nBring your family\, meet your neighbors\, and enjoy dinner at the park!
URL:https://www.marlowemanor.com/event/souf-mouf-southern-eatery-food-truck-at-marlowe-manor-park-2/
LOCATION:Marlowe Manor Park & Pool Parking Lot\, 2000 Shumate Drive\, Little Rock\, 72212\, United States
CATEGORIES:Food Trucks
ATTACH;FMTTYPE=image/jpeg:https://www.marlowemanor.com/wp-content/uploads/Souf-Mouf-Southern-Eatery.jpg
END:VEVENT
BEGIN:VEVENT
DTSTART;TZID=America/Chicago:20260730T160000
DTEND;TZID=America/Chicago:20260730T190000
DTSTAMP:20260423T190345
CREATED:20260315T003430Z
LAST-MODIFIED:20260315T003431Z
UID:2687-1785427200-1785438000@www.marlowemanor.com
SUMMARY:Enjoy Hibachi Express Food Truck at Marlowe Manor Park
DESCRIPTION:Come enjoy an evening of fresh hibachi and community at Marlowe Manor Park! \n\n\n\nOn Thursday\, July 30\, 2026 from 4:00 PM to 7:00 PM\, Enjoy Hibachi Express will be visiting Marlowe Manor. \n\n\n\nEnjoy Hibachi Express is a popular Central Arkansas food truck known for serving fresh hibachi-style meals cooked to order\, bringing the flavors of a Japanese steakhouse directly to local neighborhoods and community events. \n\n\n\nMenu favorites often include: \n\n\n\n\nHibachi chicken\n\n\n\nHibachi steak\n\n\n\nHibachi shrimp\n\n\n\nFried rice and noodles\n\n\n\nFresh grilled vegetables\n\n\n\n\nEach meal is prepared hot and fresh on the truck’s grill\, making it a great option for a quick and flavorful dinner in the neighborhood. \n\n\n\nBring your family\, meet your neighbors\, and enjoy dinner at the park!
URL:https://www.marlowemanor.com/event/enjoy-hibachi-express-food-truck-at-marlowe-manor-park-2/
LOCATION:Marlowe Manor Park & Pool Parking Lot\, 2000 Shumate Drive\, Little Rock\, 72212\, United States
CATEGORIES:Food Trucks
ATTACH;FMTTYPE=image/jpeg:https://www.marlowemanor.com/wp-content/uploads/Enjoy-Hibachi-Express.jpg
END:VEVENT
BEGIN:VEVENT
DTSTART;TZID=America/Chicago:20260907T110000
DTEND;TZID=America/Chicago:20260907T200000
DTSTAMP:20260423T190345
CREATED:20260316T194835Z
LAST-MODIFIED:20260316T194836Z
UID:2695-1788778800-1788811200@www.marlowemanor.com
SUMMARY:Labor Day Pool Party
DESCRIPTION:Join your neighbors at the Marlowe Manor Pool for one final celebration of the summer season during our Labor Day Pool Party and Season Closing. \n\n\n\nOn Monday\, September 7\, 2026\, Marlowe Manor residents are invited to gather at the pool to enjoy the last swim of the year before the pool closes for the season. This neighborhood event is a great opportunity to relax\, cool off\, and spend time with friends and neighbors as we wrap up another great pool season. \n\n\n\nThis event is open to Marlowe Manor residents in good standing. \n\n\n\nBring your family\, enjoy the water\, and celebrate the end of summer with the Marlowe Manor community. \n\n\n\nFollowing this event\, the Marlowe Manor Pool will close for the 2026 season.
URL:https://www.marlowemanor.com/event/labor-day-pool-party/
LOCATION:Marlowe Manor Park & Pool Parking Lot\, 2000 Shumate Drive\, Little Rock\, 72212\, United States
ATTACH;FMTTYPE=image/png:https://www.marlowemanor.com/wp-content/uploads/Labor-Day-09-07-2026.png
END:VEVENT
BEGIN:VEVENT
DTSTART;TZID=America/Chicago:20261001T190000
DTEND;TZID=America/Chicago:20261001T200000
DTSTAMP:20260423T190345
CREATED:20260314T235851Z
LAST-MODIFIED:20260315T000019Z
UID:2660-1790881200-1790884800@www.marlowemanor.com
SUMMARY:Marlowe Manor Property Owners Association Members Meeting – October 2026
DESCRIPTION:The Marlowe Manor Property Owners Association (MMPOA) will hold its Members Meeting via Zoom on Thursday\, October 1st at 7:00 PM. \n\n\n\nThese meetings provide property owners with an opportunity to stay informed about neighborhood updates\, upcoming community events\, and matters affecting the Marlowe Manor neighborhood. \n\n\n\nTypical discussion topics may include: \n\n\n\n\nNeighborhood updates\n\n\n\nCommunity improvements and projects\n\n\n\nUpcoming events and seasonal activities\n\n\n\nPool and park updates\n\n\n\nOther items of interest to Marlowe Manor property owners\n\n\n\n\nThis meeting will be conducted virtually via Zoom\, allowing members to join from the comfort of their home. \n\n\n\nZoom meeting details will be sent to members prior to the meeting. \n\n\n\nAll Marlowe Manor property owners are encouraged to attend and stay engaged with the community.
URL:https://www.marlowemanor.com/event/marlowe-manor-property-owners-association-members-meeting-october-2026/
LOCATION:Zoom (Virtual/Online)
CATEGORIES:Property Owners Association Meetings
ATTACH;FMTTYPE=image/png:https://www.marlowemanor.com/wp-content/uploads/October-2026-Marlowe-Manor-Members-Meeting.png
END:VEVENT
BEGIN:VEVENT
DTSTART;TZID=America/Chicago:20270114T180000
DTEND;TZID=America/Chicago:20270114T190000
DTSTAMP:20260423T190345
CREATED:20260315T000544Z
LAST-MODIFIED:20260315T000545Z
UID:2663-1799949600-1799953200@www.marlowemanor.com
SUMMARY:Marlowe Manor Property Owners Association Annual Members Meeting & Election of Officers 2027
DESCRIPTION:The Marlowe Manor Property Owners Association (MMPOA) will hold its Annual Members Meeting and Election of Officers on Thursday\, January 14\, 2027 at 6:00 PM. \n\n\n\nThis meeting is an important annual requirement of the Association and provides an opportunity for property owners to hear updates on neighborhood activities\, review the past year\, and participate in the election of board officers. \n\n\n\nTopics may include: \n\n\n\n\nReview of neighborhood updates and accomplishments from the previous year\n\n\n\nUpdates on Marlowe Manor Park and Pool operations\n\n\n\nDiscussion of upcoming community initiatives and events\n\n\n\nElection of MMPOA Officers for the upcoming year\n\n\n\nOpen discussion for property owners\n\n\n\n\nThis meeting is open to all Marlowe Manor property owners in good standing\, and participation is strongly encouraged. \n\n\n\nAdditional details regarding the meeting location or access information will be provided prior to the meeting.
URL:https://www.marlowemanor.com/event/marlowe-manor-property-owners-association-annual-members-meeting-election-of-officers-2027/
LOCATION:Adolphine Fletcher Terry Library\, 2015 Napa Valley Drive\, Little Rock\, AR\, 72211\, United States
CATEGORIES:Property Owners Association Meetings
ATTACH;FMTTYPE=image/png:https://www.marlowemanor.com/wp-content/uploads/January-2027-Marlowe-Manor-Members-Meeting.png
END:VEVENT
END:VCALENDAR