BEGIN:VCALENDAR
VERSION:2.0
PRODID:-//MarloweManor.com - ECPv6.15.20//NONSGML v1.0//EN
CALSCALE:GREGORIAN
METHOD:PUBLISH
X-WR-CALNAME:MarloweManor.com
X-ORIGINAL-URL:https://www.marlowemanor.com
X-WR-CALDESC:Events for MarloweManor.com
REFRESH-INTERVAL;VALUE=DURATION:PT1H
X-Robots-Tag:noindex
X-PUBLISHED-TTL:PT1H
BEGIN:VTIMEZONE
TZID:America/Chicago
BEGIN:DAYLIGHT
TZOFFSETFROM:-0600
TZOFFSETTO:-0500
TZNAME:CDT
DTSTART:20250309T080000
END:DAYLIGHT
BEGIN:STANDARD
TZOFFSETFROM:-0500
TZOFFSETTO:-0600
TZNAME:CST
DTSTART:20251102T070000
END:STANDARD
BEGIN:DAYLIGHT
TZOFFSETFROM:-0600
TZOFFSETTO:-0500
TZNAME:CDT
DTSTART:20260308T080000
END:DAYLIGHT
BEGIN:STANDARD
TZOFFSETFROM:-0500
TZOFFSETTO:-0600
TZNAME:CST
DTSTART:20261101T070000
END:STANDARD
BEGIN:DAYLIGHT
TZOFFSETFROM:-0600
TZOFFSETTO:-0500
TZNAME:CDT
DTSTART:20270314T080000
END:DAYLIGHT
BEGIN:STANDARD
TZOFFSETFROM:-0500
TZOFFSETTO:-0600
TZNAME:CST
DTSTART:20271107T070000
END:STANDARD
BEGIN:DAYLIGHT
TZOFFSETFROM:-0600
TZOFFSETTO:-0500
TZNAME:CDT
DTSTART:20280312T080000
END:DAYLIGHT
BEGIN:STANDARD
TZOFFSETFROM:-0500
TZOFFSETTO:-0600
TZNAME:CST
DTSTART:20281105T070000
END:STANDARD
END:VTIMEZONE
BEGIN:VEVENT
DTSTART;TZID=America/Chicago:20261001T190000
DTEND;TZID=America/Chicago:20261001T200000
DTSTAMP:20260423T190445
CREATED:20260314T235851Z
LAST-MODIFIED:20260315T000019Z
UID:2660-1790881200-1790884800@www.marlowemanor.com
SUMMARY:Marlowe Manor Property Owners Association Members Meeting – October 2026
DESCRIPTION:The Marlowe Manor Property Owners Association (MMPOA) will hold its Members Meeting via Zoom on Thursday\, October 1st at 7:00 PM. \n\n\n\nThese meetings provide property owners with an opportunity to stay informed about neighborhood updates\, upcoming community events\, and matters affecting the Marlowe Manor neighborhood. \n\n\n\nTypical discussion topics may include: \n\n\n\n\nNeighborhood updates\n\n\n\nCommunity improvements and projects\n\n\n\nUpcoming events and seasonal activities\n\n\n\nPool and park updates\n\n\n\nOther items of interest to Marlowe Manor property owners\n\n\n\n\nThis meeting will be conducted virtually via Zoom\, allowing members to join from the comfort of their home. \n\n\n\nZoom meeting details will be sent to members prior to the meeting. \n\n\n\nAll Marlowe Manor property owners are encouraged to attend and stay engaged with the community.
URL:https://www.marlowemanor.com/event/marlowe-manor-property-owners-association-members-meeting-october-2026/
LOCATION:Zoom (Virtual/Online)
CATEGORIES:Property Owners Association Meetings
ATTACH;FMTTYPE=image/png:https://www.marlowemanor.com/wp-content/uploads/October-2026-Marlowe-Manor-Members-Meeting.png
END:VEVENT
BEGIN:VEVENT
DTSTART;TZID=America/Chicago:20270114T180000
DTEND;TZID=America/Chicago:20270114T190000
DTSTAMP:20260423T190445
CREATED:20260315T000544Z
LAST-MODIFIED:20260315T000545Z
UID:2663-1799949600-1799953200@www.marlowemanor.com
SUMMARY:Marlowe Manor Property Owners Association Annual Members Meeting & Election of Officers 2027
DESCRIPTION:The Marlowe Manor Property Owners Association (MMPOA) will hold its Annual Members Meeting and Election of Officers on Thursday\, January 14\, 2027 at 6:00 PM. \n\n\n\nThis meeting is an important annual requirement of the Association and provides an opportunity for property owners to hear updates on neighborhood activities\, review the past year\, and participate in the election of board officers. \n\n\n\nTopics may include: \n\n\n\n\nReview of neighborhood updates and accomplishments from the previous year\n\n\n\nUpdates on Marlowe Manor Park and Pool operations\n\n\n\nDiscussion of upcoming community initiatives and events\n\n\n\nElection of MMPOA Officers for the upcoming year\n\n\n\nOpen discussion for property owners\n\n\n\n\nThis meeting is open to all Marlowe Manor property owners in good standing\, and participation is strongly encouraged. \n\n\n\nAdditional details regarding the meeting location or access information will be provided prior to the meeting.
URL:https://www.marlowemanor.com/event/marlowe-manor-property-owners-association-annual-members-meeting-election-of-officers-2027/
LOCATION:Adolphine Fletcher Terry Library\, 2015 Napa Valley Drive\, Little Rock\, AR\, 72211\, United States
CATEGORIES:Property Owners Association Meetings
ATTACH;FMTTYPE=image/png:https://www.marlowemanor.com/wp-content/uploads/January-2027-Marlowe-Manor-Members-Meeting.png
END:VEVENT
END:VCALENDAR