BEGIN:VCALENDAR
VERSION:2.0
PRODID:-//MarloweManor.com - ECPv6.15.20//NONSGML v1.0//EN
CALSCALE:GREGORIAN
METHOD:PUBLISH
X-ORIGINAL-URL:https://www.marlowemanor.com
X-WR-CALDESC:Events for MarloweManor.com
REFRESH-INTERVAL;VALUE=DURATION:PT1H
X-Robots-Tag:noindex
X-PUBLISHED-TTL:PT1H
BEGIN:VTIMEZONE
TZID:America/Chicago
BEGIN:DAYLIGHT
TZOFFSETFROM:-0600
TZOFFSETTO:-0500
TZNAME:CDT
DTSTART:20230312T080000
END:DAYLIGHT
BEGIN:STANDARD
TZOFFSETFROM:-0500
TZOFFSETTO:-0600
TZNAME:CST
DTSTART:20231105T070000
END:STANDARD
BEGIN:DAYLIGHT
TZOFFSETFROM:-0600
TZOFFSETTO:-0500
TZNAME:CDT
DTSTART:20240310T080000
END:DAYLIGHT
BEGIN:STANDARD
TZOFFSETFROM:-0500
TZOFFSETTO:-0600
TZNAME:CST
DTSTART:20241103T070000
END:STANDARD
BEGIN:DAYLIGHT
TZOFFSETFROM:-0600
TZOFFSETTO:-0500
TZNAME:CDT
DTSTART:20250309T080000
END:DAYLIGHT
BEGIN:STANDARD
TZOFFSETFROM:-0500
TZOFFSETTO:-0600
TZNAME:CST
DTSTART:20251102T070000
END:STANDARD
END:VTIMEZONE
BEGIN:VEVENT
DTSTART;TZID=America/Chicago:20241215T140000
DTEND;TZID=America/Chicago:20241215T160000
DTSTAMP:20260423T154747
CREATED:20241201T220409Z
LAST-MODIFIED:20241201T220410Z
UID:2183-1734271200-1734278400@www.marlowemanor.com
SUMMARY:Marlowe Manor Toy Drive & Cocoa Station
DESCRIPTION:We invite you to join us for our inaugural Toy Drive and Cocoa Station on Sunday\, December 15th\, from 2:00 PM to 4:00 PM. This special event promises to be a wonderful opportunity to come together as a community\, spread holiday cheer\, and support a great cause. Further details will be provided soon. We look forward to seeing you there!
URL:https://www.marlowemanor.com/event/marlowe-manor-toy-drive-cocoa-station/
LOCATION:Marlowe Manor Park & Pool Parking Lot\, 2000 Shumate Drive\, Little Rock\, 72212\, United States
CATEGORIES:Neighborhood Special Event
ATTACH;FMTTYPE=image/jpeg:https://www.marlowemanor.com/wp-content/uploads/ToyDriveCocoStation.jpg
END:VEVENT
BEGIN:VEVENT
DTSTART;TZID=America/Chicago:20241205T190000
DTEND;TZID=America/Chicago:20241205T210000
DTSTAMP:20260423T154747
CREATED:20240531T152421Z
LAST-MODIFIED:20240911T151105Z
UID:1645-1733425200-1733432400@www.marlowemanor.com
SUMMARY:Marlow Manor Property Owners’ Association Members Meeting
DESCRIPTION:
URL:https://www.marlowemanor.com/event/marlow-manor-property-owners-association-members-meeting-6/
CATEGORIES:Property Owners Association Meetings
ATTACH;FMTTYPE=image/jpeg:https://www.marlowemanor.com/wp-content/uploads/MarloweManor_December.jpg
END:VEVENT
BEGIN:VEVENT
DTSTART;TZID=America/Chicago:20241113T160000
DTEND;TZID=America/Chicago:20241113T190000
DTSTAMP:20260423T154747
CREATED:20241016T153908Z
LAST-MODIFIED:20241016T153910Z
UID:2148-1731513600-1731524400@www.marlowemanor.com
SUMMARY:Loncheria Mexicana Alicia Food Truck
DESCRIPTION:Loncheria Mexicana Alicia Food Truck
URL:https://www.marlowemanor.com/event/loncheria-mexicana-alicia-food-truck-4/
LOCATION:Marlowe Manor Park & Pool Parking Lot\, 2000 Shumate Drive\, Little Rock\, 72212\, United States
END:VEVENT
BEGIN:VEVENT
DTSTART;TZID=America/Chicago:20241107T190000
DTEND;TZID=America/Chicago:20241107T210000
DTSTAMP:20260423T154747
CREATED:20240531T152344Z
LAST-MODIFIED:20240911T150848Z
UID:1643-1731006000-1731013200@www.marlowemanor.com
SUMMARY:Marlow Manor Property Owners’ Association Members Meeting
DESCRIPTION:
URL:https://www.marlowemanor.com/event/marlow-manor-property-owners-association-members-meeting-5/
LOCATION:Zoom (Virtual/Online)
ATTACH;FMTTYPE=image/jpeg:https://www.marlowemanor.com/wp-content/uploads/MarloweManor_November.jpg
END:VEVENT
BEGIN:VEVENT
DTSTART;TZID=America/Chicago:20241026T110000
DTEND;TZID=America/Chicago:20241026T170000
DTSTAMP:20260423T154747
CREATED:20240910T224406Z
LAST-MODIFIED:20241024T023129Z
UID:2033-1729940400-1729962000@www.marlowemanor.com
SUMMARY:Park Cleanup Event
DESCRIPTION:Park Clean Up Event
URL:https://www.marlowemanor.com/event/park-cleanup-event/
LOCATION:Marlowe Manor Park & Pool Parking Lot\, 2000 Shumate Drive\, Little Rock\, 72212\, United States
CATEGORIES:Park Cleanup
ATTACH;FMTTYPE=image/jpeg:https://www.marlowemanor.com/wp-content/uploads/Park-Cleanup-Event.jpg
END:VEVENT
BEGIN:VEVENT
DTSTART;TZID=America/Chicago:20241016T160000
DTEND;TZID=America/Chicago:20241016T193000
DTSTAMP:20260423T154747
CREATED:20241016T135612Z
LAST-MODIFIED:20241016T135637Z
UID:2141-1729094400-1729107000@www.marlowemanor.com
SUMMARY:Loncheria Mexicana Alicia Food Truck
DESCRIPTION:Loncheria Mexicana Alicia Food Truck
URL:https://www.marlowemanor.com/event/loncheria-mexicana-alicia-food-truck-3/
LOCATION:Marlowe Manor Park & Pool Parking Lot\, 2000 Shumate Drive\, Little Rock\, 72212\, United States
CATEGORIES:Food Trucks
ATTACH;FMTTYPE=image/jpeg:https://www.marlowemanor.com/wp-content/uploads/Luncheria-Mexicana-Alicia-Image_640x299.jpg
END:VEVENT
BEGIN:VEVENT
DTSTART;TZID=America/Chicago:20241012T160000
DTEND;TZID=America/Chicago:20241012T190000
DTSTAMP:20260423T154747
CREATED:20241009T173653Z
LAST-MODIFIED:20241009T173801Z
UID:2084-1728748800-1728759600@www.marlowemanor.com
SUMMARY:Flako's Mexican Grill Food Truck
DESCRIPTION:Flako’s Mexican Grill Food Truck
URL:https://www.marlowemanor.com/event/2084/
LOCATION:Marlowe Manor Park & Pool Parking Lot\, 2000 Shumate Drive\, Little Rock\, 72212\, United States
ATTACH;FMTTYPE=image/jpeg:https://www.marlowemanor.com/wp-content/uploads/Flakos-Mexican-Grill_600x600.jpg
END:VEVENT
BEGIN:VEVENT
DTSTART;TZID=America/Chicago:20241012T160000
DTEND;TZID=America/Chicago:20241012T190000
DTSTAMP:20260423T154747
CREATED:20240826T181722Z
LAST-MODIFIED:20241012T160522Z
UID:1929-1728748800-1728759600@www.marlowemanor.com
SUMMARY:Marlowe Manor Fall Festival
DESCRIPTION:Marlowe Manor Neighborhood Fall Festival \n\n\n\n\n\n\n\nPlease join us this Saturday\, October 12th starting at 4pm for candy\, food & games at the park for you and your kids.  Flako’s Food Truck will be at the park. \n\n\n\n\n\nFor some\, it’s just a game; for others\, it’s a competition. Let’s see who can hit the piñata the hardest and release the avalanche of candy!STARTS AT 5PM\n\n\n\n\n\nUnleash your competitive side with the classic challenge of bobbing for apples.\n\n\n\n\n\nThe sweet smell of toasted marshmallows\, melted chocolate\, and graham crackers filling the air!\n\n\n\n\n\n\n\n\n\n\n\nCome try the cake walk\, where you could walk away with a sweet treat!Cake Walk Starts at 4:30pm\n\n\n\n\n\n\n\n\n\nIf the sweet treats are too much for you\, Flako’s Mexican Grill Food Truck will be onsite to feed you and your family!  Click the logo below to view the menu and more details. \n\n\n\nFlako’s Mexican Grill
URL:https://www.marlowemanor.com/event/marlowe-manor-fall-festival/
LOCATION:Marlowe Manor Park & Pool Parking Lot\, 2000 Shumate Drive\, Little Rock\, 72212\, United States
ATTACH;FMTTYPE=image/jpeg:https://www.marlowemanor.com/wp-content/uploads/MarloweManorFallFestival_October19.jpg
END:VEVENT
BEGIN:VEVENT
DTSTART;TZID=America/Chicago:20241003T190000
DTEND;TZID=America/Chicago:20241003T210000
DTSTAMP:20260423T154747
CREATED:20240531T151722Z
LAST-MODIFIED:20240910T224907Z
UID:1639-1727982000-1727989200@www.marlowemanor.com
SUMMARY:Marlow Manor Property Owners’ Association Members Meeting
DESCRIPTION:
URL:https://www.marlowemanor.com/event/marlow-manor-property-owners-association-members-meeting-4/
ATTACH;FMTTYPE=image/jpeg:https://www.marlowemanor.com/wp-content/uploads/MMPOA_Fall.jpg
END:VEVENT
BEGIN:VEVENT
DTSTART;TZID=America/Chicago:20240915T120000
DTEND;TZID=America/Chicago:20240915T150000
DTSTAMP:20260423T154747
CREATED:20240910T221242Z
LAST-MODIFIED:20240911T143642Z
UID:2031-1726401600-1726412400@www.marlowemanor.com
SUMMARY:Loncheria Mexicana Alicia Food Truck (Ballot Signature Event)
DESCRIPTION:Enjoy food while talking about the Bill of Assurance Amendment
URL:https://www.marlowemanor.com/event/loncheria-mexicana-alicia-food-truck-ballot-signature-event/
LOCATION:Marlowe Manor Park & Pool Parking Lot\, 2000 Shumate Drive\, Little Rock\, 72212\, United States
CATEGORIES:Food Trucks
ATTACH;FMTTYPE=image/jpeg:https://www.marlowemanor.com/wp-content/uploads/Luncheria-Mexicana-Alicia-Image.jpg
END:VEVENT
BEGIN:VEVENT
DTSTART;TZID=America/Chicago:20240915T120000
DTEND;TZID=America/Chicago:20240915T150000
DTSTAMP:20260423T154747
CREATED:20240910T220337Z
LAST-MODIFIED:20240911T143435Z
UID:2029-1726401600-1726412400@www.marlowemanor.com
SUMMARY:Ballot Signature Event
DESCRIPTION:If you would like to sign for the ballot and/or ask questions\, please visit us at the park to ask question and sign.
URL:https://www.marlowemanor.com/event/ballot-signature-event/
LOCATION:Marlowe Manor Park & Pool Parking Lot\, 2000 Shumate Drive\, Little Rock\, 72212\, United States
CATEGORIES:Property Owners Association Meetings
ATTACH;FMTTYPE=image/jpeg:https://www.marlowemanor.com/wp-content/uploads/BALLOT_AT_PARK.jpg
END:VEVENT
BEGIN:VEVENT
DTSTART;TZID=America/Chicago:20240905T190000
DTEND;TZID=America/Chicago:20240905T210000
DTSTAMP:20260423T154747
CREATED:20240531T151559Z
LAST-MODIFIED:20240531T151559Z
UID:1637-1725562800-1725570000@www.marlowemanor.com
SUMMARY:Marlow Manor Property Owners’ Association Members Meeting
DESCRIPTION:
URL:https://www.marlowemanor.com/event/marlow-manor-property-owners-association-members-meeting-3/
LOCATION:Zoom (Virtual/Online)
END:VEVENT
BEGIN:VEVENT
DTSTART;TZID=America/Chicago:20240902T110000
DTEND;TZID=America/Chicago:20240902T200000
DTSTAMP:20260423T154747
CREATED:20240531T151445Z
LAST-MODIFIED:20240606T182203Z
UID:1635-1725274800-1725307200@www.marlowemanor.com
SUMMARY:Marlow Manor Community Pool Party - Labor Day
DESCRIPTION:
URL:https://www.marlowemanor.com/event/marlow-manor-community-pool-party-labor-day/
ATTACH;FMTTYPE=image/jpeg:https://www.marlowemanor.com/wp-content/uploads/Marlowe_Manor_Pool_Party.jpg
END:VEVENT
BEGIN:VEVENT
DTSTART;TZID=America/Chicago:20240829T170000
DTEND;TZID=America/Chicago:20240829T200000
DTSTAMP:20260423T154747
CREATED:20240828T195547Z
LAST-MODIFIED:20240828T195549Z
UID:1937-1724950800-1724961600@www.marlowemanor.com
SUMMARY:Loncheria Mexicana Alicia Food Truck
DESCRIPTION:Loncheria Mexicana Alicia Food Truck
URL:https://www.marlowemanor.com/event/loncheria-mexicana-alicia-food-truck-2/
LOCATION:Marlowe Manor Park & Pool Parking Lot\, 2000 Shumate Drive\, Little Rock\, 72212\, United States
CATEGORIES:Food Trucks
ATTACH;FMTTYPE=image/jpeg:https://www.marlowemanor.com/wp-content/uploads/Luncheria-Mexicana-Alicia_new.jpg
END:VEVENT
BEGIN:VEVENT
DTSTART;TZID=America/Chicago:20240803T170000
DTEND;TZID=America/Chicago:20240803T200000
DTSTAMP:20260423T154747
CREATED:20240802T212053Z
LAST-MODIFIED:20240802T212120Z
UID:1895-1722704400-1722715200@www.marlowemanor.com
SUMMARY:Flako's Food Truck
DESCRIPTION:Flako’s Food Truck is a standout in Arkansas’s thriving food truck scene\, renowned for its diverse and delectable menu. \n\n\n\nFlako’s Mexican Grill
URL:https://www.marlowemanor.com/event/flakos-food-truck-3/
LOCATION:Marlowe Manor Park & Pool Parking Lot\, 2000 Shumate Drive\, Little Rock\, 72212\, United States
CATEGORIES:Food Trucks
ATTACH;FMTTYPE=image/jpeg:https://www.marlowemanor.com/wp-content/uploads/Flakos-Mexican-Grill_600x600.jpg
END:VEVENT
BEGIN:VEVENT
DTSTART;TZID=America/Chicago:20240801T190000
DTEND;TZID=America/Chicago:20240801T200000
DTSTAMP:20260423T154747
CREATED:20240531T151348Z
LAST-MODIFIED:20240731T045030Z
UID:1633-1722538800-1722542400@www.marlowemanor.com
SUMMARY:Marlow Manor Property Owners’ Association Members Meeting
DESCRIPTION:Please join us on Thursday\, August 1st at 7:00pm for Marlowe Manor Property Owners Association Members meeting by Zoom.  The zoom connection information has been sent to Marlowe Manor residents by email.  We will be going over the latest events in the neighborhood\, financials\, as well as answering any questions neighbors may have.  Looking forward to seeing y’all there!
URL:https://www.marlowemanor.com/event/marlow-manor-property-owners-association-members-meeting-2/
LOCATION:Zoom (Virtual/Online)
CATEGORIES:Property Owners Association Meetings
ATTACH;FMTTYPE=image/jpeg:https://www.marlowemanor.com/wp-content/uploads/MARLOWE_zoom_august__800x57.jpg
END:VEVENT
BEGIN:VEVENT
DTSTART;TZID=America/Chicago:20240725T170000
DTEND;TZID=America/Chicago:20240725T200000
DTSTAMP:20260423T154747
CREATED:20240623T050808Z
LAST-MODIFIED:20240725T042740Z
UID:1800-1721926800-1721937600@www.marlowemanor.com
SUMMARY:Philips' Lips & Tips Mobile Food Trailer
DESCRIPTION:Phillips’ Lips & Tips Mobile Food Trailer \n\n\n\nJoin us at Marlowe Manor on July 25th at 5:00 PM for a delightful culinary experience. We are thrilled to announce that Phillips Lips & Tips\, the renowned food truck famous for its mouth-watering Philly cheesesteaks\, will be serving up a variety of delectable dishes for all to enjoy.Facebook: https://www.facebook.com/phillipslipsntipscatering
URL:https://www.marlowemanor.com/event/philips-lips-tips-mobile-food-trailer/
LOCATION:Marlowe Manor Park & Pool Parking Lot\, 2000 Shumate Drive\, Little Rock\, 72212\, United States
CATEGORIES:Food Trucks
ATTACH;FMTTYPE=image/jpeg:https://www.marlowemanor.com/wp-content/uploads/Phillips-Lips-Tips_400.jpg
END:VEVENT
BEGIN:VEVENT
DTSTART;TZID=America/Chicago:20240719T170000
DTEND;TZID=America/Chicago:20240719T200000
DTSTAMP:20260423T154747
CREATED:20240717T170225Z
LAST-MODIFIED:20240717T170526Z
UID:1863-1721408400-1721419200@www.marlowemanor.com
SUMMARY:Flako's Food Truck
DESCRIPTION:Discover Flako’s Food Truck: A Culinary Delight in Arkansas \n\n\n\nFlako’s Food Truck is a standout in Arkansas’s thriving food truck scene\, renowned for its diverse and delectable menu. This mobile eatery has earned a dedicated following\, thanks to its unique offerings and consistent quality. \n\n\n\nFlako’s Mexican Grill
URL:https://www.marlowemanor.com/event/flakos-food-truck-2/
CATEGORIES:Food Trucks
ATTACH;FMTTYPE=image/jpeg:https://www.marlowemanor.com/wp-content/uploads/Flakos-Mexican-Grill_600x600.jpg
END:VEVENT
BEGIN:VEVENT
DTSTART;TZID=America/Chicago:20240711T190000
DTEND;TZID=America/Chicago:20240711T210000
DTSTAMP:20260423T154747
CREATED:20240531T151256Z
LAST-MODIFIED:20240711T155642Z
UID:1631-1720724400-1720731600@www.marlowemanor.com
SUMMARY:Marlow Manor Property Owners’ Association Members Meeting
DESCRIPTION:
URL:https://www.marlowemanor.com/event/marlow-manor-property-owners-association-members-meeting/
LOCATION:Marlowe Manor Park & Pool Parking Lot\, 2000 Shumate Drive\, Little Rock\, 72212\, United States
CATEGORIES:Property Owners Association Meetings
END:VEVENT
BEGIN:VEVENT
DTSTART;TZID=America/Chicago:20240710T170000
DTEND;TZID=America/Chicago:20240710T190000
DTSTAMP:20260423T154747
CREATED:20240625T033324Z
LAST-MODIFIED:20240710T165603Z
UID:1809-1720630800-1720638000@www.marlowemanor.com
SUMMARY:KrabKingz Seafood Food Truck
DESCRIPTION:Get ready for a seafood feast at Marlowe Manor! The renowned KrabKingz Food Truck is bringing its mouthwatering seafood dishes to our Park/Pool Parking Lot on July 10th. Indulge in the freshest and most flavorful crab legs\, shrimp platters\, and seafood boils right in your neighborhood. \n\n\n\nFacebook:  https://www.facebook.com/krabkingzar
URL:https://www.marlowemanor.com/event/krabkingz-seafood-food-truck/
LOCATION:Marlowe Manor Park & Pool Parking Lot\, 2000 Shumate Drive\, Little Rock\, 72212\, United States
CATEGORIES:Food Trucks
ATTACH;FMTTYPE=image/jpeg:https://www.marlowemanor.com/wp-content/uploads/KrabKingz.jpg
END:VEVENT
BEGIN:VEVENT
DTSTART;TZID=America/Chicago:20240704T140000
DTEND;TZID=America/Chicago:20240704T200000
DTSTAMP:20260423T154747
CREATED:20240624T144920Z
LAST-MODIFIED:20240704T025439Z
UID:1807-1720101600-1720123200@www.marlowemanor.com
SUMMARY:The Rev 7:9 Snoball Shaved Ice Food Truck
DESCRIPTION:The Rev 7:9 Snoball Shaved Ice Food Truck will be at Marlowe Manor Park/Pool on Thursday\, July 4th in support of the swim team. \n\n\n\n\n\n\n\nThe Rev 7:9 Snoball is a food truck based in Little Rock\, Arkansas\, known for serving a variety of shaved ice treats. Named after the biblical verse Revelation 7:9\, the truck aims to provide refreshing and delicious snoballs to the community. \n\n\n\nThe Rev 7:9 Snoball Food Truck\n\n\n\n\n\n\n\nThe Rev 7:9 Snoball Food Truck
URL:https://www.marlowemanor.com/event/the-rev-79-snoball-shaved-ice-food-truck-2/
LOCATION:Marlowe Manor Park & Pool Parking Lot\, 2000 Shumate Drive\, Little Rock\, 72212\, United States
CATEGORIES:Food Trucks
ATTACH;FMTTYPE=image/jpeg:https://www.marlowemanor.com/wp-content/uploads/SnoBall_1024x478.jpg
END:VEVENT
BEGIN:VEVENT
DTSTART;TZID=America/Chicago:20240704T110000
DTEND;TZID=America/Chicago:20240704T200000
DTSTAMP:20260423T154747
CREATED:20240531T145226Z
LAST-MODIFIED:20240606T180637Z
UID:1628-1720090800-1720123200@www.marlowemanor.com
SUMMARY:Marlow Manor Community Pool Party for Independence Day
DESCRIPTION:  \nPlease join us on Independence Day at the PoolMembers who are current with their POA Dues as well as Members pool members are welcome to join us! \nMembers may need to bring their own chairs as seats AND tables fill up fast. \nHot Dogs\, Chips\, and Water will be available on a first come\, first serve basis.  Once gone\, it’s gone.
URL:https://www.marlowemanor.com/event/marlow-manor-community-pool-party/
LOCATION:Marlowe Manor Park & Pool Parking Lot\, 2000 Shumate Drive\, Little Rock\, 72212\, United States
CATEGORIES:Pool Party - Open Swim
ATTACH;FMTTYPE=image/jpeg:https://www.marlowemanor.com/wp-content/uploads/IndependenceDay_Party.jpg
END:VEVENT
BEGIN:VEVENT
DTSTART;TZID=America/Chicago:20240622T170000
DTEND;TZID=America/Chicago:20240622T190000
DTSTAMP:20260423T154747
CREATED:20240531T144805Z
LAST-MODIFIED:20240611T154042Z
UID:1621-1719075600-1719082800@www.marlowemanor.com
SUMMARY:Loncheria Mexicana Alicia Food Truck
DESCRIPTION:
URL:https://www.marlowemanor.com/event/loncheria-mexicana-alicia-food-truck/
LOCATION:Marlowe Manor Park & Pool Parking Lot\, 2000 Shumate Drive\, Little Rock\, 72212\, United States
CATEGORIES:Food Trucks
ATTACH;FMTTYPE=image/jpeg:https://www.marlowemanor.com/wp-content/uploads/Luncheria-Mexicana-Alicia-Image.jpg
END:VEVENT
BEGIN:VEVENT
DTSTART;TZID=America/Chicago:20240620T170000
DTEND;TZID=America/Chicago:20240620T190000
DTSTAMP:20260423T154747
CREATED:20240531T144947Z
LAST-MODIFIED:20240618T032857Z
UID:1624-1718902800-1718910000@www.marlowemanor.com
SUMMARY:Flako’s Food Truck
DESCRIPTION:Discover Flak’s Food Truck: A Culinary Delight in ArkansasFlako’s Food Truck is a standout in Arkansas’s thriving food truck scene\, renowned for its diverse and delectable menu. This mobile eatery has earned a dedicated following\, thanks to its unique offerings and consistent quality.
URL:https://www.marlowemanor.com/event/flakos-food-truck/
LOCATION:Marlowe Manor Park & Pool Parking Lot\, 2000 Shumate Drive\, Little Rock\, 72212\, United States
CATEGORIES:Food Trucks
ATTACH;FMTTYPE=image/jpeg:https://www.marlowemanor.com/wp-content/uploads/Flakos-Mexican-Grill_600x600.jpg
END:VEVENT
BEGIN:VEVENT
DTSTART;TZID=America/Chicago:20240618T173000
DTEND;TZID=America/Chicago:20240618T190000
DTSTAMP:20260423T154747
CREATED:20240618T175129Z
LAST-MODIFIED:20240618T180525Z
UID:1779-1718731800-1718737200@www.marlowemanor.com
SUMMARY:The Rev 7:9 Snoball Shaved Ice Food Truck
DESCRIPTION:The Rev 7:9 Snoball Shaved Ice Food Truck will be at Marlowe Manor Park/Pool on Tuesday\, June 18th in support of the swim team. \n\n\n\n\n\n\n\nThe Rev 7:9 Snoball is a food truck based in Little Rock\, Arkansas\, known for serving a variety of shaved ice treats. Named after the biblical verse Revelation 7:9\, the truck aims to provide refreshing and delicious snoballs to the community. \n\n\n\n\n\n\n\n20% of Proceeds will go towards the swim team. \n\n\n\n\n\n\n\nThe Rev 7:9 Snoball Food Truck
URL:https://www.marlowemanor.com/event/the-rev-79-snoball-shaved-ice-food-truck/
LOCATION:Marlowe Manor Park & Pool Parking Lot\, 2000 Shumate Drive\, Little Rock\, 72212\, United States
ATTACH;FMTTYPE=image/jpeg:https://www.marlowemanor.com/wp-content/uploads/rev7-9.jpg
END:VEVENT
BEGIN:VEVENT
DTSTART;TZID=America/Chicago:20240612T160000
DTEND;TZID=America/Chicago:20240612T200000
DTSTAMP:20260423T154747
CREATED:20240611T160443Z
LAST-MODIFIED:20240611T213747Z
UID:1751-1718208000-1718222400@www.marlowemanor.com
SUMMARY:La Casa De Mi Abuelita Mawmaw's House
DESCRIPTION:Experience the best of authentic Mexican cuisine with La Casa De Mi Abuelita\, also known as Maw Maw’s House. Founded in 2020 by chefs Geovanny and Neena Villagran\, this beloved Arkansas food truck is famous for its quesabirria tacos\, bursting with flavor and made from locally sourced ingredients. Visit their permanent location in Cabot or catch them at various spots around Benton\, Little Rock\, Maumelle\, and Sheridan. Don’t miss their unique birria ramen and other mouth-watering dishes. Follow Maw Maw’s House for the latest updates and locations. Visit Maw Maw’s House today!Facebook:  https://www.facebook.com/mawmawshousellc \n\n\n\n\n\n\n\n\n\n\n\n\n\n\n\n(menu item and prices subject to change)
URL:https://www.marlowemanor.com/event/la-casa-de-mi-abuelita-mawmaws-house/
LOCATION:Marlowe Manor Park & Pool Parking Lot\, 2000 Shumate Drive\, Little Rock\, 72212\, United States
CATEGORIES:Food Trucks
ATTACH;FMTTYPE=image/jpeg:https://www.marlowemanor.com/wp-content/uploads/LaCasaLogo.jpg
END:VEVENT
BEGIN:VEVENT
DTSTART;TZID=America/Chicago:20240606T190000
DTEND;TZID=America/Chicago:20240606T210000
DTSTAMP:20260423T154747
CREATED:20240531T144415Z
LAST-MODIFIED:20240606T172930Z
UID:1614-1717700400-1717707600@www.marlowemanor.com
SUMMARY:Marlow Manor Property Owner's Association Members Meeting
DESCRIPTION:Please join us by Zoom. Connection information was sent to verified property owners by e-mail. During this session\, we will provide a comprehensive overview of recent activities\, upcoming events\, and other relevant information. Your participation is highly valued\, as it offers an opportunity for us to address any questions\, comments\, or concerns you may have.  If you didn’t receive an invite\, please e-mail secretarymmpoa@gmail.com with your name AND property address.
URL:https://www.marlowemanor.com/event/marlow-manor-property-owners-association-meeting-via-zoom/
LOCATION:Zoom (Virtual/Online)
CATEGORIES:Property Owners Association Meetings
ATTACH;FMTTYPE=image/jpeg:https://www.marlowemanor.com/wp-content/uploads/Marlowe_Manor_Zoom.jpg
END:VEVENT
BEGIN:VEVENT
DTSTART;TZID=America/Chicago:20240606T170000
DTEND;TZID=America/Chicago:20240606T190000
DTSTAMP:20260423T154747
CREATED:20240531T144630Z
LAST-MODIFIED:20240606T174019Z
UID:1618-1717693200-1717700400@www.marlowemanor.com
SUMMARY:Twisted Fries Food Truck
DESCRIPTION:Please join us at the Park/Pool parking Lot to enjoy Twisted Fries Food Truck\nFacebook:  https://www.facebook.com/TwistedFriesAR \n\n\n\n\n \nLocation:\n2000 Shumate Drive\nLittle Rock\, AR 72212
URL:https://www.marlowemanor.com/event/twisted-fries-food-truck/
LOCATION:Marlowe Manor Park & Pool Parking Lot\, 2000 Shumate Drive\, Little Rock\, 72212\, United States
CATEGORIES:Food Trucks
ATTACH;FMTTYPE=image/jpeg:https://www.marlowemanor.com/wp-content/uploads/Twisted_Fries_500x500.jpg
END:VEVENT
END:VCALENDAR