BEGIN:VCALENDAR
VERSION:2.0
PRODID:-//MarloweManor.com - ECPv6.15.20//NONSGML v1.0//EN
CALSCALE:GREGORIAN
METHOD:PUBLISH
X-ORIGINAL-URL:https://www.marlowemanor.com
X-WR-CALDESC:Events for MarloweManor.com
REFRESH-INTERVAL;VALUE=DURATION:PT1H
X-Robots-Tag:noindex
X-PUBLISHED-TTL:PT1H
BEGIN:VTIMEZONE
TZID:America/Chicago
BEGIN:DAYLIGHT
TZOFFSETFROM:-0600
TZOFFSETTO:-0500
TZNAME:CDT
DTSTART:20240310T080000
END:DAYLIGHT
BEGIN:STANDARD
TZOFFSETFROM:-0500
TZOFFSETTO:-0600
TZNAME:CST
DTSTART:20241103T070000
END:STANDARD
BEGIN:DAYLIGHT
TZOFFSETFROM:-0600
TZOFFSETTO:-0500
TZNAME:CDT
DTSTART:20250309T080000
END:DAYLIGHT
BEGIN:STANDARD
TZOFFSETFROM:-0500
TZOFFSETTO:-0600
TZNAME:CST
DTSTART:20251102T070000
END:STANDARD
BEGIN:DAYLIGHT
TZOFFSETFROM:-0600
TZOFFSETTO:-0500
TZNAME:CDT
DTSTART:20260308T080000
END:DAYLIGHT
BEGIN:STANDARD
TZOFFSETFROM:-0500
TZOFFSETTO:-0600
TZNAME:CST
DTSTART:20261101T070000
END:STANDARD
END:VTIMEZONE
BEGIN:VEVENT
DTSTART;TZID=America/Chicago:20250301T080000
DTEND;TZID=America/Chicago:20250301T153000
DTSTAMP:20260424T110608
CREATED:20250122T061117Z
LAST-MODIFIED:20250122T061120Z
UID:2254-1740816000-1740843000@www.marlowemanor.com
SUMMARY:Neighborhood Yard Sale
DESCRIPTION:We’re excited to announce that a community yard sale is in the works\, organized by Dana Tyler! The event will take place in the Park/Pool parking lot\, offering a great opportunity for residents to clear out their closets\, make a little extra cash\, and connect with neighbors in a fun and lively setting. \n\n\n\nDana Tyler is spearheading this effort and is coordinating all the details through Facebook. If you’re interested in participating\, we encourage you to reach out to her directly on Facebook to discuss setup logistics\, available spaces\, and other event details. \n\n\n\nFor any immediate questions or if you’d like to help with organizing\, feel free to contact Dana on Facebook. We hope to see you there!
URL:https://www.marlowemanor.com/event/neighborhood-yard-sale/
LOCATION:Marlowe Manor Park & Pool Parking Lot\, 2000 Shumate Drive\, Little Rock\, 72212\, United States
ATTACH;FMTTYPE=image/jpeg:https://www.marlowemanor.com/wp-content/uploads/MM_Yard_Sale_March_2025.jpg
END:VEVENT
BEGIN:VEVENT
DTSTART;TZID=America/Chicago:20250306T190000
DTEND;TZID=America/Chicago:20250306T200000
DTSTAMP:20260424T110608
CREATED:20250122T060633Z
LAST-MODIFIED:20250122T060637Z
UID:2251-1741287600-1741291200@www.marlowemanor.com
SUMMARY:Marlow Manor Property Owners Association Members Meeting
DESCRIPTION:Marlowe Manor Property Owners Association Members Meeting
URL:https://www.marlowemanor.com/event/marlow-manor-property-owners-association-members-meeting-7/
LOCATION:Zoom (Virtual/Online)
CATEGORIES:Property Owners Association Meetings
ATTACH;FMTTYPE=image/jpeg:https://www.marlowemanor.com/wp-content/uploads/Marlowe_Manor_March.jpg
END:VEVENT
BEGIN:VEVENT
DTSTART;TZID=America/Chicago:20250315T100000
DTEND;TZID=America/Chicago:20250315T140000
DTSTAMP:20260424T110608
CREATED:20250313T053251Z
LAST-MODIFIED:20250313T053253Z
UID:2284-1742032800-1742047200@www.marlowemanor.com
SUMMARY:2025 Spring Park Cleanup Day
DESCRIPTION:Neighbors\, please join us for Marlowe Manor’s Neighborhood Park Cleanup this Saturday\, March 15th at 10 AM. We have 6 yards of pea gravel waiting to be spread\, lots of leaves to rake\, and we truly need as many helping hands as possible! Please bring wheelbarrows\, rakes and shovels if you have them. If not\, we will have extras for anybody that just wants to show up \n\n\n\nYour support means so much. Even a little bit of your time makes a big difference. Hope to see you there!
URL:https://www.marlowemanor.com/event/2025-spring-park-cleanup-day/
LOCATION:Marlowe Manor Park & Pool Parking Lot\, 2000 Shumate Drive\, Little Rock\, 72212\, United States
CATEGORIES:Park Cleanup
ATTACH;FMTTYPE=image/jpeg:https://www.marlowemanor.com/wp-content/uploads/park.jpg
END:VEVENT
BEGIN:VEVENT
DTSTART;TZID=America/Chicago:20250325T170000
DTEND;TZID=America/Chicago:20250325T190000
DTSTAMP:20260424T110608
CREATED:20250321T192745Z
LAST-MODIFIED:20250321T192747Z
UID:2310-1742922000-1742929200@www.marlowemanor.com
SUMMARY:Loncheria Mexicana Alicia Food Truck
DESCRIPTION:🌮 Loncheria Mexicana Alicia Food Truck at Marlowe Manor Park – March 25 \n\n\n\nEvent Details:Get ready for a delicious evening! The Loncheria Mexicana Alicia Food Truck is rolling into Marlowe Manor Park on Tuesday\, March 25\, starting at 5:00 PM and staying until close (exact time TBD). \n\n\n\nBring your appetite and your neighbors—this is a great opportunity to enjoy authentic Mexican street food right here in the neighborhood. From tacos to tortas\, Loncheria Mexicana Alicia is a local favorite you won’t want to miss. \n\n\n\n🗓 Date: Tuesday\, March 25🕖 Time: 5:00 PM until close📍 Location: Marlowe Manor Park \n\n\n\nLoncheria Mexicana Alicia Food Truck
URL:https://www.marlowemanor.com/event/loncheria-mexicana-alicia-food-truck-5/
LOCATION:Marlowe Manor Park & Pool Parking Lot\, 2000 Shumate Drive\, Little Rock\, 72212\, United States
CATEGORIES:Food Trucks
ATTACH;FMTTYPE=image/jpeg:https://www.marlowemanor.com/wp-content/uploads/Luncheria-Mexicana-Alicia-Image_640x299.jpg
END:VEVENT
END:VCALENDAR