BEGIN:VCALENDAR
VERSION:2.0
PRODID:-//MarloweManor.com - ECPv6.15.20//NONSGML v1.0//EN
CALSCALE:GREGORIAN
METHOD:PUBLISH
X-WR-CALNAME:MarloweManor.com
X-ORIGINAL-URL:https://www.marlowemanor.com
X-WR-CALDESC:Events for MarloweManor.com
REFRESH-INTERVAL;VALUE=DURATION:PT1H
X-Robots-Tag:noindex
X-PUBLISHED-TTL:PT1H
BEGIN:VTIMEZONE
TZID:America/Chicago
BEGIN:DAYLIGHT
TZOFFSETFROM:-0600
TZOFFSETTO:-0500
TZNAME:CDT
DTSTART:20240310T080000
END:DAYLIGHT
BEGIN:STANDARD
TZOFFSETFROM:-0500
TZOFFSETTO:-0600
TZNAME:CST
DTSTART:20241103T070000
END:STANDARD
BEGIN:DAYLIGHT
TZOFFSETFROM:-0600
TZOFFSETTO:-0500
TZNAME:CDT
DTSTART:20250309T080000
END:DAYLIGHT
BEGIN:STANDARD
TZOFFSETFROM:-0500
TZOFFSETTO:-0600
TZNAME:CST
DTSTART:20251102T070000
END:STANDARD
BEGIN:DAYLIGHT
TZOFFSETFROM:-0600
TZOFFSETTO:-0500
TZNAME:CDT
DTSTART:20260308T080000
END:DAYLIGHT
BEGIN:STANDARD
TZOFFSETFROM:-0500
TZOFFSETTO:-0600
TZNAME:CST
DTSTART:20261101T070000
END:STANDARD
END:VTIMEZONE
BEGIN:VEVENT
DTSTART;TZID=America/Chicago:20250408T160000
DTEND;TZID=America/Chicago:20250408T200000
DTSTAMP:20260424T090626
CREATED:20250321T193149Z
LAST-MODIFIED:20250408T201841Z
UID:2312-1744128000-1744142400@www.marlowemanor.com
SUMMARY:Loncheria Mexicana Alicia Food Truck
DESCRIPTION:🌮 Loncheria Mexicana Alicia Food Truck at Marlowe Manor Park – March 25 \n\n\n\nEvent Details:Get ready for a delicious evening! The Loncheria Mexicana Alicia Food Truck is rolling into Marlowe Manor Park on Tuesday\, March 25\, starting at 4:00 PM and staying until close (exact time TBD). \n\n\n\nBring your appetite and your neighbors—this is a great opportunity to enjoy authentic Mexican street food right here in the neighborhood. From tacos to tortas\, Loncheria Mexicana Alicia is a local favorite you won’t want to miss. \n\n\n\n🗓 Date: Tuesday\, March 25🕖 Time: 4:00 PM until close📍 Location: Marlowe Manor Park \n\n\n\nDon’t forget to bring a chair or picnic blanket and enjoy dinner al fresco. We hope to see you there! \n\n\n\nLoncheria Mexicana Alicia Food Truck
URL:https://www.marlowemanor.com/event/loncheria-mexicana-alicia-food-truck-6/
LOCATION:Marlowe Manor Park & Pool Parking Lot\, 2000 Shumate Drive\, Little Rock\, 72212\, United States
CATEGORIES:Food Trucks
ATTACH;FMTTYPE=image/jpeg:https://www.marlowemanor.com/wp-content/uploads/Luncheria-Mexicana-Alicia-Image_640x299.jpg
END:VEVENT
BEGIN:VEVENT
DTSTART;TZID=America/Chicago:20250413T143000
DTEND;TZID=America/Chicago:20250413T153000
DTSTAMP:20260424T090626
CREATED:20250325T155941Z
LAST-MODIFIED:20250325T155942Z
UID:2330-1744554600-1744558200@www.marlowemanor.com
SUMMARY:Easter Egg Hunt
DESCRIPTION:🐣 You’re Invited to the Marlowe Manor Easter Egg Hunt! 🐰Join us for a fun-filled afternoon at Marlowe Manor Park on Sunday\, April 13th at 2:30 PM sharp for our annual Easter Egg Hunt! \n\n\n\nThis egg-citing event is just for the kids — so bring your little ones\, their favorite baskets\, and get ready for a springtime adventure as they search high and low for colorful Easter eggs hidden throughout the park. \n\n\n\nDon’t be late — the hunt starts right on time!We can’t wait to see you there! 🌷🥚🌼
URL:https://www.marlowemanor.com/event/easter-egg-hunt/
LOCATION:Marlowe Manor Park & Pool Parking Lot\, 2000 Shumate Drive\, Little Rock\, 72212\, United States
CATEGORIES:Neighborhood Special Event
ATTACH;FMTTYPE=image/webp:https://www.marlowemanor.com/wp-content/uploads/DALL·E-2025-03-25-10.55.18-A-festive-Easter-egg-hunt-taking-place-at-Marlowe-Manor-Park-in-a-wide-scenic-view.-The-background-shows-a-lush-green-park-with-spring-blossoms-fami.webp
END:VEVENT
BEGIN:VEVENT
DTSTART;TZID=America/Chicago:20250417T160000
DTEND;TZID=America/Chicago:20250417T200000
DTSTAMP:20260424T090626
CREATED:20250402T141143Z
LAST-MODIFIED:20250405T174917Z
UID:2359-1744905600-1744920000@www.marlowemanor.com
SUMMARY:Tracy B's Food Truck
DESCRIPTION:🎉 Tracy B’s Food Truck at Marlowe Manor Park – This Saturday! 🍴 \n\n\n\nGet ready\, neighbors! Tracy B’s Food Truck is rolling into Marlowe Manor Park Thursday\, April 17th from 4:00 PM to 8:00 PM — and you don’t want to miss it! \n\n\n\nFamous around Little Rock for their homemade cheese sauce and comforting Southern flavors\, Tracy B’s will be serving up crowd favorites like: \n\n\n\n🧀 Pulled Pork Mac & Cheese🥓 Sweet Piggy Nachos🍔 BBQ Sliders…and more mouthwatering bites! \n\n\n\nBring your appetite\, your lawn chairs\, and the whole family for a fun evening of delicious eats and community vibes. It’s the perfect way to kick off the weekend right here in the neighborhood. \n\n\n\n📍 Where: Marlowe Manor Park🕓 When: Thursday\, April 17th\, 4PM – 8PM🍽 Who: You + Tracy B’s = Dinner plans made \n\n\n\nLet’s show up hungry and support a fantastic local business. See you there! \n\n\n\n⚠️ Weather Advisory: Due to potential inclement weather\, Tracy B’s Food Truck event may be canceled or rescheduled. Please check this page or our social media for updates before heading to the park.⚠️
URL:https://www.marlowemanor.com/event/tracy-bs-food-truck/
LOCATION:Marlowe Manor Park & Pool Parking Lot\, 2000 Shumate Drive\, Little Rock\, 72212\, United States
CATEGORIES:Food Trucks
ATTACH;FMTTYPE=image/jpeg:https://www.marlowemanor.com/wp-content/uploads/TracyBsFoodTruck.jpg
END:VEVENT
BEGIN:VEVENT
DTSTART;TZID=America/Chicago:20250422T170000
DTEND;TZID=America/Chicago:20250422T190000
DTSTAMP:20260424T090626
CREATED:20250321T193507Z
LAST-MODIFIED:20250321T193721Z
UID:2315-1745341200-1745348400@www.marlowemanor.com
SUMMARY:Loncheria Mexicana Alicia Food Truck
DESCRIPTION:🌮 Loncheria Mexicana Alicia Food Truck at Marlowe Manor Park – March 25 \n\n\n\nEvent Details:Get ready for a delicious evening! The Loncheria Mexicana Alicia Food Truck is rolling into Marlowe Manor Park on Tuesday\, March 25\, starting at 5:00 PM and staying until close (exact time TBD). \n\n\n\nBring your appetite and your neighbors—this is a great opportunity to enjoy authentic Mexican street food right here in the neighborhood. From tacos to tortas\, Loncheria Mexicana Alicia is a local favorite you won’t want to miss. \n\n\n\n🗓 Date: Tuesday\, March 25🕖 Time: 5:00 PM until close📍 Location: Marlowe Manor Park \n\n\n\nDon’t forget to bring a chair or picnic blanket and enjoy dinner al fresco. We hope to see you there! \n\n\n\nLoncheria Mexicana Alicia Food Truck
URL:https://www.marlowemanor.com/event/loncheria-mexicana-alicia-food-truck-7/
LOCATION:Marlowe Manor Park & Pool Parking Lot\, 2000 Shumate Drive\, Little Rock\, 72212\, United States
CATEGORIES:Food Trucks
ATTACH;FMTTYPE=image/jpeg:https://www.marlowemanor.com/wp-content/uploads/Luncheria-Mexicana-Alicia-Image_640x299.jpg
END:VEVENT
END:VCALENDAR