BEGIN:VCALENDAR
VERSION:2.0
PRODID:-//MarloweManor.com - ECPv6.15.20//NONSGML v1.0//EN
CALSCALE:GREGORIAN
METHOD:PUBLISH
X-WR-CALNAME:MarloweManor.com
X-ORIGINAL-URL:https://www.marlowemanor.com
X-WR-CALDESC:Events for MarloweManor.com
REFRESH-INTERVAL;VALUE=DURATION:PT1H
X-Robots-Tag:noindex
X-PUBLISHED-TTL:PT1H
BEGIN:VTIMEZONE
TZID:America/Chicago
BEGIN:DAYLIGHT
TZOFFSETFROM:-0600
TZOFFSETTO:-0500
TZNAME:CDT
DTSTART:20240310T080000
END:DAYLIGHT
BEGIN:STANDARD
TZOFFSETFROM:-0500
TZOFFSETTO:-0600
TZNAME:CST
DTSTART:20241103T070000
END:STANDARD
BEGIN:DAYLIGHT
TZOFFSETFROM:-0600
TZOFFSETTO:-0500
TZNAME:CDT
DTSTART:20250309T080000
END:DAYLIGHT
BEGIN:STANDARD
TZOFFSETFROM:-0500
TZOFFSETTO:-0600
TZNAME:CST
DTSTART:20251102T070000
END:STANDARD
BEGIN:DAYLIGHT
TZOFFSETFROM:-0600
TZOFFSETTO:-0500
TZNAME:CDT
DTSTART:20260308T080000
END:DAYLIGHT
BEGIN:STANDARD
TZOFFSETFROM:-0500
TZOFFSETTO:-0600
TZNAME:CST
DTSTART:20261101T070000
END:STANDARD
END:VTIMEZONE
BEGIN:VEVENT
DTSTART;TZID=America/Chicago:20250508T190000
DTEND;TZID=America/Chicago:20250508T200000
DTSTAMP:20260424T072204
CREATED:20250325T155010Z
LAST-MODIFIED:20250325T155140Z
UID:2323-1746730800-1746734400@www.marlowemanor.com
SUMMARY:Marlow Manor Property Owners Association Members Meeting
DESCRIPTION:Please join us on Thursday\, May 8th at 7:00pm for Marlowe Manor Property Owners Association members meeting by Zoom.  We will be going over the latest events in the neighborhood\, financials\, as well as answering any questions neighbors may have. Looking forward to seeing y’all there virtually. \n\n\n\n\n\n\n\nDo you need the zoom connection information?  Please email the secretary at secretarymmpoa@gmail.com for the connection information and to be included in the Monthly Newsletter.
URL:https://www.marlowemanor.com/event/marlow-manor-property-owners-association-members-meeting-8/
LOCATION:Zoom (Virtual/Online)
CATEGORIES:Property Owners Association Meetings
ATTACH;FMTTYPE=image/png:https://www.marlowemanor.com/wp-content/uploads/Marlowe_Meeting_May.png
END:VEVENT
BEGIN:VEVENT
DTSTART;TZID=America/Chicago:20250523T170000
DTEND;TZID=America/Chicago:20250523T210000
DTSTAMP:20260424T072204
CREATED:20250405T222048Z
LAST-MODIFIED:20250405T222050Z
UID:2401-1748019600-1748034000@www.marlowemanor.com
SUMMARY:Pool Opening Day
DESCRIPTION:☀️ Pool Opening Day – Marlowe Manor NeighborhoodFriday\, May 23rd\, 2025Exclusively for Current Pool Members \n\n\n\nSummer kicks off at the Marlowe Manor Pool on Friday\, May 23rd! Pool Opening Day is here\, and we’re excited to welcome our members back for a season of sunshine\, swimming\, and community. \n\n\n\nThis event is for current pool members only. If you still need to pay your membership dues\, volunteers will be available at the gate to accept cash or check. \n\n\n\n🪪 Pool armbands are required for entry. If you haven’t picked up your armbands yet\, we will be handing them out to paid members at the entrance.🪑 Seating is limited\, so please bring your own chair if possible🍭 The concession stand will be open with snacks and treats for purchase❗ No free food will be provided for this event \n\n\n\nReminders: \n\n\n\n\nOnly current members or those paying at the gate will be allowed entry\n\n\n\nCash or check only accepted for membership payments\n\n\n\nPlease review the posted pool rules for a safe and fun experience\n\n\n\n\nLet’s make a splash and start the season off right! 💦☀️
URL:https://www.marlowemanor.com/event/pool-opening-day/
LOCATION:Marlowe Manor Park & Pool Parking Lot\, 2000 Shumate Drive\, Little Rock\, 72212\, United States
ATTACH;FMTTYPE=image/png:https://www.marlowemanor.com/wp-content/uploads/Pool-Opening-Day-May-23rd.png
END:VEVENT
BEGIN:VEVENT
DTSTART;TZID=America/Chicago:20250531T110000
DTEND;TZID=America/Chicago:20250531T200000
DTSTAMP:20260424T072204
CREATED:20250219T160358Z
LAST-MODIFIED:20250526T140306Z
UID:2274-1748689200-1748721600@www.marlowemanor.com
SUMMARY:Memorial Day - Neighborhood Open Swim
DESCRIPTION:Marlowe Manor Neighborhood Open Swim  Day – Memorial Day \n\n\n\n\n\n\n\n🇺🇸 Memorial Day Open Swim – Marlowe Manor NeighborhoodMonday\, May 31st\, 2025 \n\n\n\nDue to cold weather and rain\, the Memorial Day Neighborhood Party has been moved from Monday\, May 26th to Saturday\, May 31st. \n\n\n\nStart the summer season with a splash! Join your neighbors at the Marlowe Manor Neighborhood Pool this Memorial Day for a day of swimming\, sunshine\, and community fun. \n\n\n\nThis special event is open to all residents in good standing and current pool members — no membership required for the day! \n\n\n\n🌭 Free hot dogs\, chips\, and drinks will be served while supplies last🪑 Seating is limited — please bring your own chair just in case🍧 The concession stand will be open with cool treats and snacks available for purchase \n\n\n\nImportant Notes: \n\n\n\n\nNon-member residents must provide their Marlowe Manor address upon entry\n\n\n\nAddresses must reflect a zero balance to be considered in good standing\n\n\n\nPlease be sure to review pool rules prior to attending\n\n\n\n\nLet’s honor the day with a celebration of community and connection — and kick off the summer together at the pool! 💧☀️🇺🇸
URL:https://www.marlowemanor.com/event/swimming-pool-opening-day-memorial-day/
LOCATION:Marlowe Manor Park & Pool Parking Lot\, 2000 Shumate Drive\, Little Rock\, 72212\, United States
CATEGORIES:Pool Party - Open Swim
ATTACH;FMTTYPE=image/png:https://www.marlowemanor.com/wp-content/uploads/Memorial-Day-May-26th-Open-Swim.png
END:VEVENT
END:VCALENDAR