BEGIN:VCALENDAR
VERSION:2.0
PRODID:-//MarloweManor.com - ECPv6.15.20//NONSGML v1.0//EN
CALSCALE:GREGORIAN
METHOD:PUBLISH
X-ORIGINAL-URL:https://www.marlowemanor.com
X-WR-CALDESC:Events for MarloweManor.com
REFRESH-INTERVAL;VALUE=DURATION:PT1H
X-Robots-Tag:noindex
X-PUBLISHED-TTL:PT1H
BEGIN:VTIMEZONE
TZID:America/Chicago
BEGIN:DAYLIGHT
TZOFFSETFROM:-0600
TZOFFSETTO:-0500
TZNAME:CDT
DTSTART:20250309T080000
END:DAYLIGHT
BEGIN:STANDARD
TZOFFSETFROM:-0500
TZOFFSETTO:-0600
TZNAME:CST
DTSTART:20251102T070000
END:STANDARD
BEGIN:DAYLIGHT
TZOFFSETFROM:-0600
TZOFFSETTO:-0500
TZNAME:CDT
DTSTART:20260308T080000
END:DAYLIGHT
BEGIN:STANDARD
TZOFFSETFROM:-0500
TZOFFSETTO:-0600
TZNAME:CST
DTSTART:20261101T070000
END:STANDARD
BEGIN:DAYLIGHT
TZOFFSETFROM:-0600
TZOFFSETTO:-0500
TZNAME:CDT
DTSTART:20270314T080000
END:DAYLIGHT
BEGIN:STANDARD
TZOFFSETFROM:-0500
TZOFFSETTO:-0600
TZNAME:CST
DTSTART:20271107T070000
END:STANDARD
END:VTIMEZONE
BEGIN:VEVENT
DTSTART;TZID=America/Chicago:20260108T180000
DTEND;TZID=America/Chicago:20260108T200000
DTSTAMP:20260423T172957
CREATED:20251204T205332Z
LAST-MODIFIED:20251204T205334Z
UID:2594-1767895200-1767902400@www.marlowemanor.com
SUMMARY:Marlowe Manor Property Owners Association Members Meeting & Election of Officers
DESCRIPTION:The Marlowe Manor Property Owners Association (MMPOA) will hold its annual Members Meeting and Election of Officers on Thursday\, January 8\, 2026. All Marlowe Manor property owners are encouraged to attend this important community event. \n\n\n\nMeeting Details\n\n\n\n\nDate: Thursday\, January 8\, 2026\n\n\n\nTime: 6:00 PM\n\n\n\nLocation: Adolphine Fletcher Terry Library\, 2015 Napa Valley Dr\, Little Rock\, AR 72212\n\n\n\n\nThis annual meeting is a key opportunity for residents to stay informed about neighborhood improvements\, ask questions\, and participate in selecting the leadership that guides the Marlowe Manor POA. \n\n\n\n\n\n\n\nWhat to Expect at the Meeting\n\n\n\n\nWelcome and introductions\n\n\n\nReview of major accomplishments and events from the previous year\n\n\n\nFinancial and annual assessment update\n\n\n\nUpdates on neighborhood projects\, maintenance efforts\, and POA initiatives\n\n\n\nElection of Officers for 2026\n\n\n\nOpen forum for member questions\, feedback\, and discussion\n\n\n\n\nElection Information\n\n\n\nTo ensure strong community representation\, the POA will conduct its official Election of Officers during the meeting. \n\n\n\n\nAll property owners in good standing (current on POA dues) are eligible to vote.\n\n\n\nNominations for officer positions may be made in advance or from the floor\, following established meeting rules.\n\n\n\n\nYour voice matters. Attending the Members Meeting helps shape the future of the Marlowe Manor neighborhood\, strengthens community engagement\, and supports transparent decision-making within the Marlowe Manor POA. \n\n\n\nWe encourage every homeowner to participate and make a meaningful contribution to the direction of our community.
URL:https://www.marlowemanor.com/event/marlowe-manor-property-owners-association-members-meeting-election-of-officers/
LOCATION:Adolphine Fletcher Terry Library\, 2015 Napa Valley Drive\, Little Rock\, AR\, 72211\, United States
CATEGORIES:Property Owners Association Meetings
ATTACH;FMTTYPE=image/png:https://www.marlowemanor.com/wp-content/uploads/Marlowe-Manor-2026-POA-Meeting-1027x559-1.png
END:VEVENT
END:VCALENDAR